BEGIN:VCALENDAR
VERSION:2.0
PRODID:-//wp-events-plugin.com//7.2.3.1//EN
BEGIN:VEVENT
UID:914@breathelosangeles.us
DTSTART;TZID=America/Los_Angeles:20250307T200000
DTEND;TZID=America/Los_Angeles:20250307T210000
DTSTAMP:20250218T123727Z
URL:https://breathelosangeles.us/events/soundbath-by-candlelight-at-laughi
 ng-frog-yoga-santa-monica-brentwood-west-la/
SUMMARY:Soundbath by Candlelight at Laughing Frog Yoga: Santa Monica\, Bren
 twood\, West LA
DESCRIPTION:\n\n\n\nIndulge in a deeply relaxing and transformative experie
 nce at Laughing Frog Yoga with their Soundbath by Candlelight. Held every 
 Friday night\, this session is designed to elevate your vibration and calm
  your mind as your body is immersed in the healing sounds of Crystal Bowls
 \, Gongs\, Koshi Chimes\, and other ancient sound healing instruments.\nAs
  the soothing vibrations wash over you\, this sound bath helps release ten
 sion\, reduce stress\, and promote deep relaxation. The gentle frequencies
  help realign your energy\, offering a therapeutic experience that nurture
 s your mind\, body\, and spirit.\nKey Details:\n\n\n 	When: Every Friday n
 ight\n 	Where: Laughing Frog Yoga\, located at the intersection of Brentwo
 od\, West LA\, and Santa Monica\n 	Price: For better pricing\, book direct
 ly through the Laughing Frog Yoga website at laughingfrogyoga.com.\n\nWhy 
 Choose Laughing Frog Yoga: Serving the Westside for over 10 years\, Laughi
 ng Frog Yoga offers a welcoming and nurturing space for all to experience 
 the transformative power of sound healing. Whether you're new to sound bat
 hs or a seasoned practitioner\, this session offers the perfect opportunit
 y to unwind\, rejuvenate\, and reconnect.\nBook your spot now and experien
 ce the profound healing power of sound in a peaceful\, candlelit atmospher
 e!\n\n\n\n\n\n\nGET TICKETS\n
ATTACH;FMTTYPE=image/jpeg:https://breathelosangeles.us/wp-content/uploads/
 2025/02/Soundbath-by-Candlelight.avif
CATEGORIES:Wellness Events
LOCATION:Laughing Frog Yoga\, 12217 Santa Monica Blvd Los Angeles\, CA 9002
 5 United States\, Los Angeles\,\, United States\, 90025\, CA\, United Stat
 es
X-APPLE-STRUCTURED-LOCATION;VALUE=URI;X-ADDRESS=12217 Santa Monica Blvd Los
  Angeles\, CA 90025 United States\, Los Angeles\,\, United States\, 90025\
 , CA\, United States;X-APPLE-RADIUS=100;X-TITLE=Laughing Frog Yoga:geo:0,0
END:VEVENT
BEGIN:VTIMEZONE
TZID:America/Los_Angeles
X-LIC-LOCATION:America/Los_Angeles
BEGIN:STANDARD
DTSTART:20241103T010000
TZOFFSETFROM:-0700
TZOFFSETTO:-0800
TZNAME:PST
END:STANDARD
END:VTIMEZONE
END:VCALENDAR