BEGIN:VCALENDAR
VERSION:2.0
PRODID:-//wp-events-plugin.com//7.2.3.1//EN
BEGIN:VEVENT
UID:871@breathelosangeles.us
DTSTART;TZID=America/Los_Angeles:20250210T200000
DTEND;TZID=America/Los_Angeles:20250210T210000
DTSTAMP:20250202T150408Z
URL:https://breathelosangeles.us/events/soundbath-deep-stretch-yin-santa-m
 onica-brentwood-west-la-2/
SUMMARY:Soundbath + Deep Stretch Yin | Santa Monica\, Brentwood\, West LA
DESCRIPTION:Every Monday evening\, indulge in a rejuvenating experience tha
 t combines the healing power of sound with the soothing benefits of deep s
 tretching. This transformative session offers a unique blend of Yin Yoga a
 nd Sound Healing\, designed to calm the body and mind while enhancing flex
 ibility and relaxation.\n\nHeld at Laughing Frog Yoga\, a beloved studio s
 erving the Westside for over a decade\, this class offers a serene environ
 ment where Santa Monica\, Brentwood\, and West LA meet. The space is perfe
 ct for unwinding after a busy day\, offering a gentle\, yet powerful sessi
 on that works on both the physical and emotional levels.\nWhat to Expect:\
 n🧘‍♀️  Stretch Yin Yoga:\nThis slower-paced yoga practice focuse
 s on long-held\, passive stretches to target deep connective tissue\, incr
 ease flexibility\, and promote relaxation. The postures are designed to he
 lp release tension in the body\, providing a calming\, restorative experie
 nce that supports your overall well-being.\n\n🎶 Sound Healing with Crys
 tal Bowls &amp\; More:\nWhile you stretch\, the room will be filled with t
 he vibrational frequencies of crystal singing bowls\, gongs\, Koshi chimes
 \, and other ancient healing instruments. These sounds work in harmony wit
 h your body\, creating a therapeutic environment that promotes stress reli
 ef\, deep relaxation\, and emotional healing.\nBenefits of the Soundbath &
 amp\; Deep Stretch Yin Session:\n\n 	Enhanced flexibility and joint mobili
 ty\n 	Release of physical and emotional tension\n 	Deep relaxation and men
 tal clarity\n 	Improved sleep quality\n 	Stress reduction and mindfulness\
 n 	Increased energy and overall well-being\n\nWhether you're new to yoga o
 r a seasoned practitioner\, this session is perfect for anyone looking to 
 find balance\, release tension\, and reconnect with their inner peace. Mak
 e Laughing Frog Yoga your sanctuary for both body and mind\, and treat you
 rself to this weekly offering of healing and relaxation.\n\nGET TICKETS\n
ATTACH;FMTTYPE=image/jpeg:https://breathelosangeles.us/wp-content/uploads/
 2025/02/Soundbath-Deep-Stretch-Yin-Santa-Monica-Brentwood-West-LA.jpeg
CATEGORIES:Wellness Events
LOCATION:Laughing Frog Yoga\, 12217 Santa Monica Blvd Los Angeles\, CA 9002
 5 United States\, Los Angeles\,\, United States\, 90025\, CA\, United Stat
 es
X-APPLE-STRUCTURED-LOCATION;VALUE=URI;X-ADDRESS=12217 Santa Monica Blvd Los
  Angeles\, CA 90025 United States\, Los Angeles\,\, United States\, 90025\
 , CA\, United States;X-APPLE-RADIUS=100;X-TITLE=Laughing Frog Yoga:geo:0,0
END:VEVENT
BEGIN:VTIMEZONE
TZID:America/Los_Angeles
X-LIC-LOCATION:America/Los_Angeles
BEGIN:STANDARD
DTSTART:20241103T010000
TZOFFSETFROM:-0700
TZOFFSETTO:-0800
TZNAME:PST
END:STANDARD
END:VTIMEZONE
END:VCALENDAR