BEGIN:VCALENDAR
VERSION:2.0
PRODID:-//wp-events-plugin.com//7.2.3.1//EN
BEGIN:VEVENT
UID:673@breathelosangeles.us
DTSTART;TZID=America/Los_Angeles:20241107T190000
DTEND;TZID=America/Los_Angeles:20241107T210000
DTSTAMP:20241004T175157Z
URL:https://breathelosangeles.us/events/speakeasy-sound-bath-2/
SUMMARY:Speakeasy Sound Bath
DESCRIPTION:Join certified hypnotherapist and sound healing facilitator Jor
 dan Wolan for a relaxing sound bath experience in the heart of Los Angeles
 \, infused with speakeasy vibes. Attendees can close their eyes and let th
 e soothing sounds of crystal bowls\, chimes\, gongs\, and more guide them 
 on a journey of relaxation and inner peace. This event offers a perfect es
 cape from the hustle and bustle\, promoting self-discovery\, healing\, and
  community connection.\n\nBenefits of Sound Healing:\nReduces stress and a
 nxiety\nImproves sleep quality\nStrengthens the immune system\nProvides pa
 in relief\nReleases negative emotions\nLowers cortisol levels\nAccesses de
 eper states of consciousness\nSchedule:\n6:50 PM - Doors open\; settle in\
 n7:00 PM - Welcome (no latecomers\; we cannot accommodate once we start)\n
 7:20 PM - Sound Bath begins\n8:20 PM - Emerging\nWhat to Bring:\nDress com
 fortably! The first six attendees will have a pad provided\, but feel free
  to bring your own comfortable items such as a blanket\, pillow\, eye cove
 ring\, and a water bottle. You’re also welcome to bring any crystals to 
 charge\, and participate in pulling an oracle card or using essential oils
 .\n\nAbout Jordan:\nJordan Wolan (she/her) is a Certified Hypnotherapist a
 nd Sound Healing Facilitator dedicated to guiding clients through transfor
 mative healing experiences. Her offerings include immersive sound baths\, 
 psychedelic cannabis journeys\, past life regression\, and hypnotic worksh
 ops\, all designed to create secure and sacred spaces for healing and empo
 werment. Jordan specializes in supporting entrepreneurs and creatives\, pr
 oviding inclusive and safe support for diverse populations\, including LGB
 TQ+\, kink\, and non-traditional relationships. Learn more about her at Jo
 rdanWolan.com and on Instagram: @jordanwolan.\n\nParking:\nZula Den is loc
 ated in West Adams\, Los Angeles\, with free street parking available. Ple
 ase note that there are about 25 steps to enter the space\; no elevator is
  available.\n\nCOVID Safety:\nTo ensure the safety of all attendees\, ever
 yone must be symptom-free\, not recently diagnosed with COVID\, and have n
 o direct contact with someone who has recently had it. If you're feeling u
 nwell\, please stay home. Thank you for helping keep our community safe!\n
 \nGET TICKETS\n
ATTACH;FMTTYPE=image/jpeg:https://breathelosangeles.us/wp-content/uploads/
 2024/10/Speakeasy-Sound-Bath.jpeg
CATEGORIES:Wellness Events
LOCATION:Zula Den\, 4011 West Jefferson Boulevard \, #100 Los Angeles\, Cal
 ifornia\, 90016\, CA\, United States
X-APPLE-STRUCTURED-LOCATION;VALUE=URI;X-ADDRESS=4011 West Jefferson Bouleva
 rd \, #100 Los Angeles\, California\, 90016\, CA\, United States;X-APPLE-R
 ADIUS=100;X-TITLE=Zula Den:geo:0,0
END:VEVENT
BEGIN:VTIMEZONE
TZID:America/Los_Angeles
X-LIC-LOCATION:America/Los_Angeles
BEGIN:STANDARD
DTSTART:20241103T010000
TZOFFSETFROM:-0700
TZOFFSETTO:-0800
TZNAME:PST
END:STANDARD
END:VTIMEZONE
END:VCALENDAR