BEGIN:VCALENDAR
VERSION:2.0
PRODID:-//wp-events-plugin.com//7.2.3.1//EN
BEGIN:VEVENT
UID:350@breathelosangeles.us
DTSTART;TZID=America/Los_Angeles:20240708T100000
DTEND;TZID=America/Los_Angeles:20240712T120000
DTSTAMP:20240630T054346Z
URL:https://breathelosangeles.us/events/spectacular-self-portraits-drawing
 -painting-sculpting/
SUMMARY:Spectacular Self Portraits: Drawing\, Painting & Sculpting
DESCRIPTION:Dive into the art of self-expression through the "Spectacular S
 elf Portraits: Drawing\, Painting &amp\; Sculpting" class. This comprehens
 ive workshop guides participants in creating various forms of self-portrai
 ts\, encompassing sculptures\, drawings\, and paintings. Students will exp
 lore facial features and proportions\, gaining a deeper understanding of t
 hemselves and the historical significance of self-portraiture in the art w
 orld.\n\nClass Highlights:\n\n 	Explore Different Mediums: Learn to craft 
 self-portraits using sculpture\, drawing\, and painting techniques.\n 	Stu
 dy Facial Features: Gain insights into the anatomy of the face and the int
 ricacies of proportion.\n 	Historical Context: Discover the importance of 
 self-portraiture throughout art history.\n 	Inspirational Artists: Draw in
 spiration from renowned artists such as Van Gogh\, Chuck Close\, and David
  Hockney.\n 	All-Inclusive Supplies: All necessary materials are provided 
 and included in the class fee.\n\nUnder the guidance of experienced instru
 ctors\, participants will delve into the artistic process\, experimenting 
 with various methods to depict their unique likeness. The class will cover
  essential techniques and concepts\, from the basics of facial anatomy to 
 advanced methods of capturing personality and emotion in art.\n\nInspirati
 on and Historical Context: The course will explore the work of iconic arti
 sts who have mastered the art of self-portraiture. Students will study Van
  Gogh's expressive brushwork\, Chuck Close's meticulous realism\, and Davi
 d Hockney's innovative use of color and form. By examining these masters\,
  participants will gain a deeper appreciation for the genre and draw inspi
 ration for their own creations.\n\nCreative Expression: Each student will 
 have the opportunity to create multiple self-portraits\, experimenting wit
 h different styles and mediums. The process will encourage self-reflection
  and personal growth\, as students learn to see themselves through the eye
 s of an artist. Whether sculpting with clay\, sketching with pencils\, or 
 painting with vibrant colors\, participants will develop their skills and 
 discover new ways to express their individuality.\n\nAll-Inclusive Experie
 nce: The class fee covers all supplies\, ensuring that students have every
 thing they need to explore their creativity fully. From high-quality paint
 s and brushes to sculpting tools and drawing materials\, every aspect of t
 he artistic process is catered for\, allowing participants to focus solely
  on their artistic journey.\n\nJoin the "Spectacular Self Portraits: Drawi
 ng\, Painting &amp\; Sculpting" class and embark on a transformative exper
 ience that combines artistic skill-building with profound self-discovery. 
 Reserve your spot today and let your self-portrait journey begin!\n\nGET T
 ICKETS\n
ATTACH;FMTTYPE=image/jpeg:https://breathelosangeles.us/wp-content/uploads/
 2024/06/Spectacular-Self-Portraits-Drawing-Painting-Sculpting.jpg
CATEGORIES:Food &amp; Drink Events,Mindfulness Events
LOCATION:Armory Center For the Arts\, 145 North Raymond Avenue Pasadena\, L
 os Angeles\, California\, 91103\, CA\, United States
X-APPLE-STRUCTURED-LOCATION;VALUE=URI;X-ADDRESS=145 North Raymond Avenue Pa
 sadena\, Los Angeles\, California\, 91103\, CA\, United States;X-APPLE-RAD
 IUS=100;X-TITLE=Armory Center For the Arts:geo:0,0
END:VEVENT
BEGIN:VTIMEZONE
TZID:America/Los_Angeles
X-LIC-LOCATION:America/Los_Angeles
BEGIN:DAYLIGHT
DTSTART:20240310T030000
TZOFFSETFROM:-0800
TZOFFSETTO:-0700
TZNAME:PDT
END:DAYLIGHT
END:VTIMEZONE
END:VCALENDAR