BEGIN:VCALENDAR
VERSION:2.0
PRODID:-//wp-events-plugin.com//7.2.3.1//EN
BEGIN:VEVENT
UID:463@breathelosangeles.us
DTSTART;TZID=America/Los_Angeles:20240929T090000
DTEND;TZID=America/Los_Angeles:20240929T180000
DTSTAMP:20240907T033826Z
URL:https://breathelosangeles.us/events/spiritually-akin-wellness-day-retr
 eat/
SUMMARY:Spiritually Akin Wellness Day Retreat
DESCRIPTION:Join us for a transformative Wellness Day Retreat dedicated to 
 deep inner healing and personal growth. This retreat is designed to facili
 tate a profound journey of self-discovery and emotional release\, focusing
  on nurturing the inner child\, uncovering past traumas\, and breaking fre
 e from emotional strongholds.\n\nWhat to Expect:\n\n 	Inner Child Healing:
  Engage in guided exercises and reflections aimed at reconnecting with and
  healing your inner child. This process is essential for addressing past w
 ounds and fostering a sense of wholeness.\n 	Trauma Identification: Learn 
 techniques to identify and understand past traumas that may be affecting y
 our current well-being. This aspect of the retreat will provide insights i
 nto how these experiences shape your life and offer strategies for healing
 .\n 	Releasing Strongholds: Participate in activities designed to help you
  release emotional strongholds and barriers that hinder your personal grow
 th and peace. This will involve a combination of therapeutic practices and
  group discussions.\n 	Cultivating Peace: Explore methods to achieve and m
 aintain inner peace. Through mindfulness\, meditation\, and other restorat
 ive practices\, you will learn how to create and sustain a sense of calm a
 nd balance in your life.\n\nThis retreat is a unique opportunity to embark
  on a journey of self-healing and personal development in a supportive and
  nurturing environment. Immerse yourself in this day of profound healing a
 nd emerge with a renewed sense of peace and clarity.\n\nGET TICKETS\n
ATTACH;FMTTYPE=image/jpeg:https://breathelosangeles.us/wp-content/uploads/
 2024/09/Spiritually-Akin-Wellness-Day-Retreat.jpg
CATEGORIES:Mindfulness Events,Retreats Events,Things To Do,Wellness Events
LOCATION:Haley Clark Dance Company\, 615 South Mesa Street\, Los Angeles\, 
 California\, 90731\, CA\, United States
X-APPLE-STRUCTURED-LOCATION;VALUE=URI;X-ADDRESS=615 South Mesa Street\, Los
  Angeles\, California\, 90731\, CA\, United States;X-APPLE-RADIUS=100;X-TI
 TLE=Haley Clark Dance Company:geo:0,0
END:VEVENT
BEGIN:VTIMEZONE
TZID:America/Los_Angeles
X-LIC-LOCATION:America/Los_Angeles
BEGIN:DAYLIGHT
DTSTART:20240310T030000
TZOFFSETFROM:-0800
TZOFFSETTO:-0700
TZNAME:PDT
END:DAYLIGHT
END:VTIMEZONE
END:VCALENDAR