BEGIN:VCALENDAR
VERSION:2.0
PRODID:-//wp-events-plugin.com//7.2.3.1//EN
BEGIN:VEVENT
UID:533@breathelosangeles.us
DTSTART;TZID=America/Los_Angeles:20241019T140000
DTEND;TZID=America/Los_Angeles:20241019T160000
DTSTAMP:20240925T162515Z
URL:https://breathelosangeles.us/events/spook-tacular-halloween-cookie-dec
 orating-class/
SUMMARY:Spook-Tacular Halloween Cookie Decorating Class
DESCRIPTION:Experience the thrill of Halloween cookie decorating in a whims
 ical setting at De Mita Boutique\, a charming venue with a delightful colo
 r palette. This fun-filled class\, taking place on Saturday\, October 19\,
  from 2-4 PM\, is perfect for beginners and those curious about the art of
  cookie decorating. Participants will not only learn the basics of shortbr
 ead but also receive recipes for cookies and icing\, plus helpful tips for
  achieving perfect decorations.\n\nOver the course of two hours\, attendee
 s will have the opportunity to decorate six spooky-themed cookies\, while 
 sipping on a complimentary glass of bubbly (or bringing their own beverage
 ). Questions are encouraged throughout the class\, ensuring a hands-on\, i
 nformative\, and highly engaging experience.\n\nWhat’s Included: All sup
 plies will be provided\, from pre-baked cookies to icing in various colors
 \, sprinkles\, and decorative tools. At the end of the session\, participa
 nts can take home their decorated cookies in provided boxes to show off (o
 r devour).\n\nWho Should Attend: This class is ideal for those with little
  to no experience in cookie decorating\, or for anyone who has faced chall
 enges with royal icing. Whether you’re looking for a fun activity with f
 riends or family\, this class is a great way to enjoy the Halloween season
  and learn new skills.\n\nCancellation Policy: Due to the planning and pre
 paration involved\, cancellations are allowed up to seven days before the 
 class for a full refund. After this period\, participants can transfer the
 ir tickets to a friend or pick up their cookie decorating kit if they cann
 ot attend in person. Please notify the instructor of any ticket transfers.
 \n\nFrequently Asked Questions:\n\n 	What will participants do in the clas
 s?\nGuests will explore cookie facts\, learn basic and advanced decorating
  techniques\, and create their own cookie designs to take home.\n 	Can add
 itional take-home kits be purchased?\nYes! Kits can be purchased at checko
 ut and picked up after the class.\n 	Do participants need baking experienc
 e?\nNo baking experience is required. Cookies and icing will be pre-made f
 or convenience\, but those with prior experience are welcome to attend and
  ask questions.\n 	What decorating skills will be taught?\nThe class will 
 cover royal icing preparation\, icing consistencies\, marbling\, outlining
 \, wet-on-wet techniques\, brush embroidery\, painting\, and more. Guests 
 are free to follow the theme or design their own cookies.\n 	What should p
 articipants bring?\nJust a smile! All supplies are provided\, including de
 licious sugar cookies. If you wear glasses\, bring them to follow along wi
 th the reference materials. Don’t forget your phone for photos!\n 	What 
 age group is the class best suited for?\nThe class is great for nearly all
  ages\, but children under 10 must attend with a parent. For younger child
 ren\, parents can opt for take-home kits and do the class at home with pro
 vided instructions.\n 	Can children attend alone?\nChildren under 10 need 
 to be accompanied by a parent. For those over 10\, drop-offs are allowed\,
  and parents can pick them up at the end of class.\n 	What will participan
 ts take home?\nEach participant will leave with their decorated cookies\, 
 a list of tools used\, and new decorating skills. Cookies will require 24-
 48 hours to dry completely.\n 	Can participants sign up as a group or indi
 vidually?\nYes! Individuals\, pairs\, or groups are welcome. Spots are lim
 ited\, so early registration is recommended.\n 	Where is the class located
 ?\nThe class will take place at De Mita Boutique\, 404 W. Leslie Dr.\, San
  Gabriel\, CA 91775.\n 	What if participants can't make the class after re
 gistering?\nCancellations are accepted up to seven days before class for a
  full refund. After that\, participants can transfer their spot or receive
  a credit for a future class.\n\nThis class promises a fun\, educational\,
  and creative experience\, perfect for celebrating the Halloween season!\n
 \nGET TICKETS\n
ATTACH;FMTTYPE=image/jpeg:https://breathelosangeles.us/wp-content/uploads/
 2024/09/Spook-Tacular-Halloween-Cookie-Decorating-Class.jpg
CATEGORIES:Food &amp; Drink Events
LOCATION:De Mita\, 404 West Leslie Drive \, San Gabriel\, California\, 9177
 5\, CA\, United States
X-APPLE-STRUCTURED-LOCATION;VALUE=URI;X-ADDRESS=404 West Leslie Drive \, Sa
 n Gabriel\, California\, 91775\, CA\, United States;X-APPLE-RADIUS=100;X-T
 ITLE=De Mita:geo:0,0
END:VEVENT
BEGIN:VTIMEZONE
TZID:America/Los_Angeles
X-LIC-LOCATION:America/Los_Angeles
BEGIN:DAYLIGHT
DTSTART:20240310T030000
TZOFFSETFROM:-0800
TZOFFSETTO:-0700
TZNAME:PDT
END:DAYLIGHT
END:VTIMEZONE
END:VCALENDAR