BEGIN:VCALENDAR
VERSION:2.0
PRODID:-//wp-events-plugin.com//7.2.3.1//EN
BEGIN:VEVENT
UID:24@breathelosangeles.us
DTSTART;TZID=America/Los_Angeles:20240406T110000
DTEND;TZID=America/Los_Angeles:20240406T150000
DTSTAMP:20240323T102359Z
URL:https://breathelosangeles.us/events/spring-into-womens-wellness/
SUMMARY:Spring Into Women's Wellness
DESCRIPTION:\n\n\n\n\n\n\n\n\nPrepare yourself for a transformative experie
 nce as we invite you to immerse in a day entirely focused on uplifting wom
 en's well-being. This event is meticulously crafted to empower and inspire
 \, featuring an array of enriching workshops\, engaging activities\, and i
 nvaluable self-care insights.\nEvent Information:\n\n\n\n\n\n\n\n\n\n\n\n\
 n\n\n\n\n\nEvent Name: Spring Into Women's Wellness\n\nHosted by: Essentia
 l Anne Media LLC in collaboration with WWTW and Carlotta Collections\n\nDa
 te and Time: Saturday\, April 6\, 2024\, from 11:00 AM to 3:00 PM PDT\n\nL
 ocation: 179 E Colorado Blvd\, Pasadena\, CA 91101\, United States\n\nTick
 et Prices:\n\nOn sale starting March 9 at 3:37 AM\n\nEarly Bird Pricing: $
 65.00 (+$6.21 Fee)\n\nRegular Price: $75.00\n\n\n\n\nGET TICKETS\n\nAbout 
 this Event:\nFor a day dedicated to empowering women's wellness through wo
 rkshops\, activities\, and self-care tips at the Spring into Women's Welln
 ess event\, presented by Essential Anne Media LLC in collaboration with WW
 TW and Carlotta Collections.\n\nExplore a variety of topics essential to w
 omen's holistic wellness\, including heart health\, breast cancer awarenes
 s\, reproductive health\, mental well-being\, autoimmune conditions\, and 
 aging gracefully.\nThe event features:\nEngaging speakers\n\nInteractive w
 orkshops\n\nVendor showcase\n\nRaffle and special surprises\n\nDon't miss 
 the opportunity to be inspired\, connect with others\, and feel empowered.
  Reserve your spot now for an unforgettable experience!\nAgenda:\n11:00 AM
  - 11:30 AM: Registration and Welcome\n\nCheck-in at the registration desk
 \, receive event materials\, and welcome remarks from the organizers.\n\n1
 1:30 AM - 12:00 PM: Introduction Session\n\nSpeakers introduce themselves\
 , sharing their backgrounds and expertise. Attendees learn about the servi
 ces offered by each speaker.\n\n12:00 PM - 1:30 PM: Fireside Chat - Sessio
 n 1\n\nTopic: Navigating Hormonal Changes\n\nSubtopics: Perimenopause\, Me
 nopause\, Post-menopause\, Fertility\, Hormone Replacement Therapy (HRT)\n
 \nSpeakers share insights and strategies for managing hormonal transitions
 .\n\n1:30 PM - 1:45 PM: Networking Break\n\nAttendees network with speaker
 s and fellow participants.\n\n1:45 PM - 3:00 PM: Fireside Chat - Session 2
 \n\nTopic: Women's Health and Cancer\n\nSubtopics: Breast Cancer\, Ovarian
  Cancer\, Polycystic Ovary Syndrome (PCOS)\n\nSpeakers discuss prevention\
 , early detection\, and holistic approaches to cancer care. Q&amp\;A sessi
 on.\n\n3:00 PM: Networking and Vendor Showcase\n\nEssentials to Bring:\n\n
 Open mind and enthusiasm for learning\n\nNotepad and pen for taking notes\
 n\nBusiness cards for networking opportunities\n\nRefund Policy:\n\nContac
 t the organizer to request a refund.\n\nEventbrite's fee is nonrefundable.
 \n\n\n\n\n\n\n\n\n
ATTACH;FMTTYPE=image/jpeg:https://breathelosangeles.us/wp-content/uploads/
 2024/03/https___cdn.evbuc_.com_images_715343569_360311317697_1_original.jp
 eg
CATEGORIES:Wellness Events
END:VEVENT
BEGIN:VTIMEZONE
TZID:America/Los_Angeles
X-LIC-LOCATION:America/Los_Angeles
BEGIN:DAYLIGHT
DTSTART:20240310T030000
TZOFFSETFROM:-0800
TZOFFSETTO:-0700
TZNAME:PDT
END:DAYLIGHT
END:VTIMEZONE
END:VCALENDAR