BEGIN:VCALENDAR
VERSION:2.0
PRODID:-//wp-events-plugin.com//7.2.3.1//EN
BEGIN:VEVENT
UID:593@breathelosangeles.us
DTSTART;TZID=America/Los_Angeles:20241026T160000
DTEND;TZID=America/Los_Angeles:20241026T180000
DTSTAMP:20240929T151728Z
URL:https://breathelosangeles.us/events/start-your-pottery-adventure-potte
 ry-class-by-classpop/
SUMMARY:Start Your Pottery Adventure - Pottery Class by Classpop!™
DESCRIPTION:Start Your Pottery Adventure" invites individuals to immerse th
 emselves in a creative and therapeutic pottery class. Under the expert gui
 dance of Instructor Tasha and her team\, participants will have the chance
  to explore various pottery techniques and mediums in a lively and social 
 environment. This class caters to everyone\, from absolute beginners to se
 asoned potters\, providing the perfect opportunity to create a unique piec
 e of pottery while benefiting from the instructor's passion and expertise.
 \n\nClasspop!™ offers a diverse selection of engaging creative classes\,
  including dance\, painting\, pottery\, and more. Each class is designed t
 o inspire creativity and foster a relaxed atmosphere\, allowing participan
 ts to learn\, create\, and connect with others.\n\nEmbark on your pottery 
 journey and unleash your creativity by booking a class today!\n\nGET TICKE
 TS\n
ATTACH;FMTTYPE=image/jpeg:https://breathelosangeles.us/wp-content/uploads/
 2024/09/Start-Your-Pottery-Adventure-Pottery-Class-by-Classpop™.jpg
CATEGORIES:Things To Do
LOCATION:Pottery Studio LA\, 8384 Beverly Blvd \, Los Angeles\, California\
 , 90048\, CA\, United States
X-APPLE-STRUCTURED-LOCATION;VALUE=URI;X-ADDRESS=8384 Beverly Blvd \, Los An
 geles\, California\, 90048\, CA\, United States;X-APPLE-RADIUS=100;X-TITLE
 =Pottery Studio LA:geo:0,0
END:VEVENT
BEGIN:VTIMEZONE
TZID:America/Los_Angeles
X-LIC-LOCATION:America/Los_Angeles
BEGIN:DAYLIGHT
DTSTART:20240310T030000
TZOFFSETFROM:-0800
TZOFFSETTO:-0700
TZNAME:PDT
END:DAYLIGHT
END:VTIMEZONE
END:VCALENDAR