BEGIN:VCALENDAR
VERSION:2.0
PRODID:-//wp-events-plugin.com//7.2.3.1//EN
BEGIN:VEVENT
UID:789@breathelosangeles.us
DTSTART;TZID=America/Los_Angeles:20241116T110000
DTEND;TZID=America/Los_Angeles:20241116T123000
DTSTAMP:20241021T105445Z
URL:https://breathelosangeles.us/events/sultry-dance-meditation-flow/
SUMMARY:SULTRY: Dance Meditation & Flow
DESCRIPTION:\n\n\n\n\nFor female-identified and non-binary individuals only
 \nDoors open at 10:30 a.m.\, with on-time arrival encouraged.\n\nSoul Stea
 dy sessions offer a profound opportunity to embark on a mystical journey o
 f healing\, guided by the transformative power of music. Led by KarunaDera
 \, these sessions weave together a rich and eclectic soundscape that spans
  genres and eras\, creating a deeply immersive experience. Through music\,
  movement\, and meditation\, participants are invited to reflect\, devote\
 , and liberate themselves in a collective dance journey.\n\nThis particula
 r Sultry edition is designed to awaken your sensuality and empower you to 
 feel your sexiest self. KarunaDera’s expertly curated session will help 
 you tap into your inner power by allowing you to safely express your sensu
 ality\, release emotional blockages\, and fully embrace your aliveness\, j
 oy\, and flow.\nIn this session\, you will:\n\n 	Safely explore and expres
 s your sensuality\n 	Release pent-up emotions\n 	Feel alive\, joyful\, and
  in flow\n 	Embody your deepest Truth through movement\n 	Experience groun
 ded freedom and openness\n\nAll bodies\, abilities\, and movement styles a
 re honored and welcomed—whether you choose to shake\, rattle\, roll\, si
 t\, lie down\, or simply breathe. This is an open invitation to trust your
  body’s wisdom\, surrender to the life force within\, and let go.\nAbout
  KarunaDera:\nKarunaDera is known for blending the ceremonial practices of
  her ancestral roots with the energy of urban life to create a holistic he
 aling experience for body\, mind\, heart\, and soul. She believes the most
  potent healing happens in the nonverbal space\, in the silence and stilln
 ess between the movements. It is here\, in this "void\," where inner celeb
 rations and profound release can occur. By surrendering to the flow of mus
 ic\, participants can transcend the self and connect with a deeper sense o
 f being.\n\nLet the power of music and movement be your medicine. Join us 
 as we\, like our ancestors\, come together in dance\, initiating our Soul 
 Steady into bliss and liberation.\n\n\n\n\n\n\n\n\n\n&nbsp\;\n\n\n\n4o\n\n
 GET TICKETS\n\n\n\n\n
ATTACH;FMTTYPE=image/jpeg:https://breathelosangeles.us/wp-content/uploads/
 2024/10/SULTRY.jpeg
CATEGORIES:Wellness Events
LOCATION:Private Residence\, 3295 Adriatic Ave \, Long Beach\, California\,
  90810\, CA\, United States
X-APPLE-STRUCTURED-LOCATION;VALUE=URI;X-ADDRESS=3295 Adriatic Ave \, Long B
 each\, California\, 90810\, CA\, United States;X-APPLE-RADIUS=100;X-TITLE=
 Private Residence:geo:0,0
END:VEVENT
BEGIN:VTIMEZONE
TZID:America/Los_Angeles
X-LIC-LOCATION:America/Los_Angeles
BEGIN:STANDARD
DTSTART:20241103T010000
TZOFFSETFROM:-0700
TZOFFSETTO:-0800
TZNAME:PST
END:STANDARD
END:VTIMEZONE
END:VCALENDAR