BEGIN:VCALENDAR
VERSION:2.0
PRODID:-//wp-events-plugin.com//7.2.3.1//EN
BEGIN:VEVENT
UID:439@breathelosangeles.us
DTSTART;TZID=America/Los_Angeles;VALUE=DATE:20240913
DTEND;TZID=America/Los_Angeles;VALUE=DATE:20240914
DTSTAMP:20240831T171218Z
URL:https://breathelosangeles.us/events/summer-of-salsa/
SUMMARY:Summer of Salsa
DESCRIPTION:Experience the vibrant rhythms of salsa music every second Frid
 ay throughout the summer at LA Plaza de Cultura y Artes with the Summer of
  Salsa concert series. This free event invites you to dance the night away
  under the stars to the sounds of some of the finest salsa bands in the ci
 ty.\n\nThe 2024 lineup promises an electrifying mix of performances\, incl
 uding the dynamic sounds of Rumbankete\, the soulful grooves of Gabrielito
  y La Verdad\, the classic beats of Son Mayor\, the lively energy of Son M
 iron\, and the infectious rhythms of Club Mambi. Adding to the festive atm
 osphere\, the renowned Super DJ Robby will be spinning tracks throughout t
 he evening\, keeping the crowd moving between sets.\n\nWhether you're a se
 asoned salsa dancer or just looking to enjoy some live music\, Summer of S
 alsa offers a perfect summer night out in the heart of Los Angeles. With i
 ts lively ambiance\, talented performers\, and the rich cultural backdrop 
 of LA Plaza de Cultura y Artes\, this series is a celebration of music\, d
 ance\, and community that captures the essence of summer in L.A.\n\nGET TI
 CKETS\n
ATTACH;FMTTYPE=image/jpeg:https://breathelosangeles.us/wp-content/uploads/
 2024/08/Summer-of-Salsa.webp
CATEGORIES:Things To Do
END:VEVENT
BEGIN:VTIMEZONE
TZID:America/Los_Angeles
X-LIC-LOCATION:America/Los_Angeles
BEGIN:DAYLIGHT
DTSTART:20240310T030000
TZOFFSETFROM:-0800
TZOFFSETTO:-0700
TZNAME:PDT
END:DAYLIGHT
END:VTIMEZONE
END:VCALENDAR