BEGIN:VCALENDAR
VERSION:2.0
PRODID:-//wp-events-plugin.com//7.2.3.1//EN
BEGIN:VEVENT
UID:440@breathelosangeles.us
DTSTART;TZID=America/Los_Angeles;VALUE=DATE:20240914
DTEND;TZID=America/Los_Angeles;VALUE=DATE:20240915
DTSTAMP:20240911T114916Z
URL:https://breathelosangeles.us/events/summer-season-at-theatricum-botani
 cum/
SUMMARY:Summer Season at Theatricum Botanicum
DESCRIPTION:For over five decades\, Theatricum Botanicum has captivated the
 ater enthusiasts with its enchanting open-air stage nestled in the scenic 
 Topanga Canyon. This beloved 299-seat amphitheater provides a magical sett
 ing for a diverse array of performances that cater to audiences of all age
 s.\n\nThis summer season promises a rich tapestry of theatrical experience
 s\, featuring both timeless classics and contemporary works. Highlights in
 clude William Shakespeare's The Winter's Tale and A Midsummer Night’s Dr
 eam\, which showcase the Bard’s enduring charm. The lineup also includes
  Wendy’s Peter Pan\, a fresh take on the beloved tale\, Tartuffe: Born A
 gain\, a modern twist on Molière’s classic comedy\, and The Hispanic/La
 tino/Latina/Latinx/Latine Vote\, which explores important cultural and pol
 itical themes.\n\nTheatricum Botanicum continues to offer a unique and imm
 ersive theater experience\, blending exceptional performances with the nat
 ural beauty of its surroundings. As the summer unfolds\, audiences can loo
 k forward to enjoying a range of compelling productions in a setting that 
 enhances the magic of live theater.\n\nGET TICKETS\n
ATTACH;FMTTYPE=image/jpeg:https://breathelosangeles.us/wp-content/uploads/
 2024/08/Summer-Season-at-Theatricum-Botanicum.webp
CATEGORIES:Things To Do
LOCATION:Will Geer Theatricum Botanicum\, 1419 N Topanga Canyon Blvd at Che
 ney Drive\, Los Angeles\, California\, 90290\, CA\, United States
X-APPLE-STRUCTURED-LOCATION;VALUE=URI;X-ADDRESS=1419 N Topanga Canyon Blvd 
 at Cheney Drive\, Los Angeles\, California\, 90290\, CA\, United States;X-
 APPLE-RADIUS=100;X-TITLE=Will Geer Theatricum Botanicum:geo:0,0
END:VEVENT
BEGIN:VTIMEZONE
TZID:America/Los_Angeles
X-LIC-LOCATION:America/Los_Angeles
BEGIN:DAYLIGHT
DTSTART:20240310T030000
TZOFFSETFROM:-0800
TZOFFSETTO:-0700
TZNAME:PDT
END:DAYLIGHT
END:VTIMEZONE
END:VCALENDAR