BEGIN:VCALENDAR
VERSION:2.0
PRODID:-//wp-events-plugin.com//7.2.3.1//EN
BEGIN:VEVENT
UID:406@breathelosangeles.us
DTSTART;TZID=America/Los_Angeles:20240831T170000
DTEND;TZID=America/Los_Angeles:20240831T193000
DTSTAMP:20240815T071332Z
URL:https://breathelosangeles.us/events/sunset-yoga-herb-walk/
SUMMARY:Sunset Yoga + Herb Walk
DESCRIPTION:Join us for an enriching evening of wellness and nature connect
 ion at our Sunset Yoga and Herb Walk event. Guided by the spirit of Robin 
 Wall Kimmerer's words\, “Know the ways of the ones who take care of you\
 , so that you may take care of them\,” this event invites participants t
 o deepen their connection with both their own well-being and the natural w
 orld.\n\nThe evening begins with a 45-minute beginner’s yoga class led b
 y the skilled and inspiring Kaia Placa. Following the yoga session\, embar
 k on a fascinating Herb Walk with Andrea Jimenez\, a certified Naturalist\
 , herbalist-in-training\, and founder of Herb Club LA. During this walk\, 
 Andrea will guide participants through the vibrant flora of Tongva land\, 
 which encompasses Los Angeles. Attendees will learn how to identify native
  plants and explore their historical and cultural significance in relation
  to human life.\n\nThis Herb Walk is designed to be accessible to everyone
 \, from novice herbalists and botanists to those simply curious about the 
 natural world around them. It’s a wonderful opportunity to immerse onese
 lf in nature\, appreciate its restorative qualities\, and gain insight int
 o the role of plants in our environment.\nEvent Details:\nWhat to Bring:\n
 \n 	Yoga mat\n 	Carrier for your mat during the walk\n 	Field notepad and 
 pen for note-taking\n 	Water bottle\n 	Mug for tea (provided)\n 	Light sna
 ck\n\nEveryone is welcome to join this journey of physical rejuvenation an
 d ecological discovery. Come ready to stretch\, learn\, and reconnect with
  the land we live on and its rich array of inhabitants.\n\nGET TICKETS\n
ATTACH;FMTTYPE=image/jpeg:https://breathelosangeles.us/wp-content/uploads/
 2024/08/Sunset-Yoga-Herb-Walk.jpg
CATEGORIES:Mindfulness Events,Things To Do,Wellness Events,Yoga Events
LOCATION:JPL Bridge\, Explorer Road Altadena\, Los Angeles\, California\,  
 91001\, CA\, United States
X-APPLE-STRUCTURED-LOCATION;VALUE=URI;X-ADDRESS=Explorer Road Altadena\, Lo
 s Angeles\, California\,  91001\, CA\, United States;X-APPLE-RADIUS=100;X-
 TITLE=JPL Bridge:geo:0,0
END:VEVENT
BEGIN:VTIMEZONE
TZID:America/Los_Angeles
X-LIC-LOCATION:America/Los_Angeles
BEGIN:DAYLIGHT
DTSTART:20240310T030000
TZOFFSETFROM:-0800
TZOFFSETTO:-0700
TZNAME:PDT
END:DAYLIGHT
END:VTIMEZONE
END:VCALENDAR