BEGIN:VCALENDAR
VERSION:2.0
PRODID:-//wp-events-plugin.com//7.2.3.1//EN
BEGIN:VEVENT
UID:365@breathelosangeles.us
DTSTART;TZID=America/Los_Angeles:20240824T070000
DTEND;TZID=America/Los_Angeles:20240824T190000
DTSTAMP:20240911T114954Z
URL:https://breathelosangeles.us/events/tadasana-day-pass/
SUMMARY:Tadasana Day Pass
DESCRIPTION:Embark on a transformative day of wellness and adventure with t
 he Tadasana Day Pass\, designed for those seeking a rejuvenating mountain 
 escape focused on health\, wellness\, and community. Nestled in the serene
  beauty of Mt. Baldy Resort\, this day pass offers a carefully curated exp
 erience to uplift your mind\, body\, and spirit.\n\nDay Pass Includes:\n\n
  	Round Trip Scenic Chairlift Ride: Begin and end your day with a breathta
 king chairlift ride\, offering panoramic views of the stunning mountain la
 ndscape.\n 	Nutritious Breakfasts: Start your morning with a healthy break
 fast featuring fresh-squeezed juices to energize your day.\n 	Delicious Lu
 nch: Enjoy a wholesome and delicious lunch\, prepared to nourish and delig
 ht.\n 	Multiple Yoga Sessions: Participate in a variety of yoga sessions l
 ed by experienced instructors\, catering to all levels and styles.\n 	Guid
 ed Hike to Mt. San Antonio: Challenge yourself with a guided hike to the t
 op of Mt. San Antonio\, where you can connect with nature and enjoy the sp
 ectacular vistas.\n 	Vendor Village and Music: Explore the vendor village\
 , offering unique products and wellness resources\, all while enjoying liv
 e music to enhance your experience.\n 	Breathwork\, Meditation\, and Heali
 ng Workshops: Engage in various workshops focused on breathwork\, meditati
 on\, and healing\, designed to deepen your wellness practice and promote i
 nner peace.\n 	Day Parking: Convenient day parking is included\, ensuring 
 a hassle-free experience from start to finish.\n\nOptional Add-Ons:\n\n 	D
 inner: Extend your day of wellness with a delicious dinner\, available for
  purchase onsite\, allowing you to continue enjoying the tranquil mountain
  setting into the evening.\n\nWhy Choose the Tadasana Day Pass?\n\nThe Tad
 asana Day Pass offers a perfect blend of physical activity\, mental relaxa
 tion\, and community connection\, all set against the backdrop of Mt. Bald
 y’s natural beauty. Whether you're looking to explore new yoga styles\, 
 deepen your meditation practice\, or simply enjoy a day in nature\, this d
 ay pass provides everything you need for a fulfilling and restorative expe
 rience.\n\nJoin us for a day of wellness\, community\, and adventure. Rese
 rve your Tadasana Day Pass today and treat yourself to the ultimate mounta
 in escape!\n\nGET TICKETS\n
ATTACH;FMTTYPE=image/jpeg:https://breathelosangeles.us/wp-content/uploads/
 2024/07/Screenshot-2024-07-27-135836.png
CATEGORIES:Featured Events,Mindfulness Events,Wellness Events
LOCATION:Mt Baldy Resort\, 8401 Mt Baldy Rd\, Mt Baldy\, California\, 91759
 \, CA\, United States
X-APPLE-STRUCTURED-LOCATION;VALUE=URI;X-ADDRESS=8401 Mt Baldy Rd\, Mt Baldy
 \, California\, 91759\, CA\, United States;X-APPLE-RADIUS=100;X-TITLE=Mt B
 aldy Resort:geo:0,0
END:VEVENT
BEGIN:VTIMEZONE
TZID:America/Los_Angeles
X-LIC-LOCATION:America/Los_Angeles
BEGIN:DAYLIGHT
DTSTART:20240310T030000
TZOFFSETFROM:-0800
TZOFFSETTO:-0700
TZNAME:PDT
END:DAYLIGHT
END:VTIMEZONE
END:VCALENDAR