BEGIN:VCALENDAR
VERSION:2.0
PRODID:-//wp-events-plugin.com//7.2.3.1//EN
BEGIN:VEVENT
UID:371@breathelosangeles.us
DTSTART;TZID=America/Los_Angeles:20240813T190000
DTEND;TZID=America/Los_Angeles:20240813T203000
DTSTAMP:20240813T054424Z
URL:https://breathelosangeles.us/events/tarot-community-monthly-meetup/
SUMMARY:Tarot Community Monthly Meetup
DESCRIPTION:Step into the mystical world of tarot at our Tarot Community Mo
 nthly Meetup—a gathering designed for everyone\, from seasoned readers t
 o those just beginning their journey into tarot. Whether you're here to re
 fine your skills or simply explore this ancient art\, this meetup offers a
  welcoming and engaging space for all.\n\nWhat to Expect:\n\n 	Tarot Readi
 ngs: Engage with fellow tarot enthusiasts in an exchange of readings. Disc
 over new insights and perspectives as you connect with a variety of reader
 s\, each bringing their unique approach and interpretation.\n 	Learning Op
 portunities: If you're new to tarot\, this is the perfect chance to learn.
  Receive readings from experienced practitioners and immerse yourself in t
 he basics of tarot in a supportive\, hands-on environment.\n 	Community Bu
 ilding: Forge connections with like-minded individuals who share your pass
 ion for tarot. Share your experiences\, deepen your understanding\, and gr
 ow together in a community that values curiosity and exploration.\n 	Fun a
 nd Engaging Atmosphere: Enjoy a relaxed and open environment where you can
  freely explore the magical world of tarot. Whether you're here to practic
 e\, seek guidance\, or simply soak in the vibes\, there's something for ev
 eryone.\n\nThis is a free community event\, so bring your friends along! A
 ll you need is your tarot deck\, an open mind\, and a willingness to explo
 re the mysteries of tarot. Join us for an evening of learning\, sharing\, 
 and connection—where the cards guide us and the community supports us.\n
 \nGET TICKETS\n
ATTACH;FMTTYPE=image/jpeg:https://breathelosangeles.us/wp-content/uploads/
 2024/08/Tarot-Community-Monthly-Meetup.jpg
CATEGORIES:Mindfulness Events,Things To Do
LOCATION:Club Joyful\, 2121 Lincoln Boulevard\, Los Angeles\, California\, 
 90291\, CA\, United States
X-APPLE-STRUCTURED-LOCATION;VALUE=URI;X-ADDRESS=2121 Lincoln Boulevard\, Lo
 s Angeles\, California\, 90291\, CA\, United States;X-APPLE-RADIUS=100;X-T
 ITLE=Club Joyful:geo:0,0
END:VEVENT
BEGIN:VTIMEZONE
TZID:America/Los_Angeles
X-LIC-LOCATION:America/Los_Angeles
BEGIN:DAYLIGHT
DTSTART:20240310T030000
TZOFFSETFROM:-0800
TZOFFSETTO:-0700
TZNAME:PDT
END:DAYLIGHT
END:VTIMEZONE
END:VCALENDAR