BEGIN:VCALENDAR
VERSION:2.0
PRODID:-//wp-events-plugin.com//7.2.3.1//EN
BEGIN:VEVENT
UID:367@breathelosangeles.us
DTSTART;TZID=America/Los_Angeles:20240810T180000
DTEND;TZID=America/Los_Angeles:20240810T230000
DTSTAMP:20240810T182838Z
URL:https://breathelosangeles.us/events/the-bloom-room-experience/
SUMMARY:The Bloom Room Experience
DESCRIPTION:Step into an unparalleled sensory journey with The Bloom Room E
 xperience\, where every moment is designed to delight and transform. Under
  the guidance of Hava Bloom and The Guide Tribe\, this immersive event mer
 ges live music\, artistic expression\, heartfelt connections\, and candlel
 it ceremonies into one enchanting evening. Whether you're looking to activ
 ate your voice or simply soak in the sensory delights\, this event offers 
 a welcoming space for all.\nEvent Highlights\n\n 	Dinner and Open Elixir B
 ar: Enjoy nourishing\, delectable meals accompanied by a selection of revi
 talizing elixirs.\n 	Unlimited Hot Herbal Tea: Sip on soothing herbal teas
  served throughout the evening.\n 	Ceremonial Grade Cacao: Indulge in two 
 servings of exquisite ceremonial grade cacao.\n 	Perfect for Date Night: E
 xperience a serene and intimate setting in the heart of Venice Beach.\n\nI
 nteractive Heart Spaces\n\n 	The Altar: Meet Hava\, The Oracle\, at The Al
 tar\, where the alluring scents of cacao\, honey\, and rose create a magic
 al atmosphere. Here\, you can either find your voice or simply bask in sou
 l-nourishing melodies. Enjoy a sensory rose brushing and a Holy Honey refl
 ection as Hava invites you into her heart space\, The Bloom Room\, where l
 ife itself becomes the ceremony.\n 	The Study: Encounter Sean\, the Sacred
  Storyteller\, surrounded by the aroma of palo santo and vibrant symbols. 
 Watch him craft live writings\, draw from The Aeonilism Wisdom Deck\, and 
 delve into The Book of Messages. Complement your exploration with hot herb
 al tea as you immerse yourself in Sean’s insights and meditations.\n 	Th
 e Garden: Join Geisha\, The Tea Guardian\, in The Garden for a soothing se
 nsory experience. Relish hot herbal teas\, artisanal adaptogenic chocolate
 s\, and tinctures crafted by Geisha herself\, designed to enhance your jou
 rney through The Bloom Room.\n 	The Vibe Angels: Kim and Bria\, The Vibe A
 ngels\, will float through the space\, radiating warmth and ensuring every
  guest feels cherished. They bring Hava Bloom's magical creations—such a
 s Chakra Anointing Oils\, Rose Infusions\, and Palo Santo Spray—adding a
 n extra layer of enchantment to your experience. Kim offers calming Reiki\
 , while Bria provides a nurturing touch.\n\nEvent Programming\n\n 	6:00 PM
 : Arrival\, smudging ceremony\, and a warm hug. Enjoy a lite dinner and ex
 plore the Aeonlism art exhibit.\n 	7:00 PM: The First Bloom: Opening Praye
 r &amp\; Intention Setting\, led by Hava and The Guide Tribe.\n 	7:15 PM: 
 Cacao and Crowning Ceremony\, guided by Sean and Hava.\n 	7:30 PM: Heart O
 pening and Harmonizing Group Activity\, led by Hava.\n 	8:00-9:30 PM: Live
  Music and Channeled Songs\, with guidance from Hava and Acoustic Alchemis
 t.\n 	9:30-10:00 PM: Violin and Singing Bowl Sound Bath\, led by Prax and 
 Hava.\n 	10:00-11:00 PM: Open Connection and Closing Ceremony\, guided by 
 Hava.\n\nLite Dinner Menu\n\n 	Fruits: A vibrant selection of fresh\, seas
 onal fruits to delight your palate. (Vegan/GF)\n 	Big Salad: A hearty\, co
 lorful mix of fresh vegetables and greens. (Vegan/GF)\n 	Rainbow Bloom Rol
 ls: Fresh rice noodles wrapped in rice paper with a variety of crisp veget
 ables and juicy fruits\, served with a flavorful peanut sauce and Thai swe
 et chili sauce. (Vegan/GF)\n\nJoin us for The Bloom Room Experience and em
 bark on a transformative evening that nourishes the body\, mind\, and soul
  in a setting of elegance and connection.\n\nGET TICKETS\n
ATTACH;FMTTYPE=image/jpeg:https://breathelosangeles.us/wp-content/uploads/
 2024/08/HavaBloom2.jpg
CATEGORIES:Mindfulness Events,Things To Do,Wellness Events
LOCATION:Club Joyful\, 2121 Lincoln Boulevard \, Venice\, California\, 9029
 1\, United States
X-APPLE-STRUCTURED-LOCATION;VALUE=URI;X-ADDRESS=2121 Lincoln Boulevard \, V
 enice\, California\, 90291\, United States;X-APPLE-RADIUS=100;X-TITLE=Club
  Joyful:geo:0,0
END:VEVENT
BEGIN:VTIMEZONE
TZID:America/Los_Angeles
X-LIC-LOCATION:America/Los_Angeles
BEGIN:DAYLIGHT
DTSTART:20240310T030000
TZOFFSETFROM:-0800
TZOFFSETTO:-0700
TZNAME:PDT
END:DAYLIGHT
END:VTIMEZONE
END:VCALENDAR