BEGIN:VCALENDAR
VERSION:2.0
PRODID:-//wp-events-plugin.com//7.2.3.1//EN
BEGIN:VEVENT
UID:110@breathelosangeles.us
DTSTART;TZID=America/Los_Angeles:20240420T100000
DTEND;TZID=America/Los_Angeles:20240420T140000
DTSTAMP:20240911T115102Z
URL:https://breathelosangeles.us/events/the-brain-master-class-24/
SUMMARY:THE BRAIN MASTER CLASS '24
DESCRIPTION:\n\n\n\n\n\n\n\n\nThe Brain Master Class '24 is dedicated to ex
 ploring the intricate dynamics of Cause\, Effect &amp\; Protocols of Brain
  Disease &amp\; Dysfunction. This event offers a unique opportunity to del
 ve into the profound complexities of brain health\, where attendees will b
 e enlightened by a comprehensive presentation of breakthrough treatments c
 urated by foremost brain specialists. Through the lens of leading brain do
 ctors\, participants will gain invaluable insights into the multifaceted n
 ature of brain diseases and dysfunctions\, unraveling the intricate interp
 lay between causative factors and their consequential effects. This immers
 ive experience promises to illuminate cutting-edge protocols aimed at miti
 gating the impact of various neurological conditions\, paving the way for 
 enhanced understanding and transformative advancements in brain health man
 agement.\n\nEvent Information:\n\nEvent Name: THE BRAIN MASTER CLASS '24\n
 \nOrganizer: Cancer Schmancer\n\nDate and Time:\n\nDate: Saturday\, April 
 20\n\nTime: 10:00 am - 2:00 pm PDT\n\nLocation:\n\nVenue: Jerry Moss Plaza
  - Dorothy Chandler Pavilion\n\nAddress: 135 North Grand Avenue\, Los Ange
 les\, CA 90012\, United States\n\nAbout This Event:\n\nDuration: 4 hours\n
 \nTheme: Cause\, Effect &amp\; Protocols of Brain Disease &amp\; Dysfuncti
 on\n\nAbout Event:\n\nA presentation of breakthrough treatments by leading
  brain doctors\, featuring:\n\nDr. Daniel Amen\, Memory Rescue: Supercharg
 e Your Brain\, Reverse Memory Loss\, and Remember What Matters Most\n\nDr.
  David Perlmutter\, Food for a Healthy Brain\n\nDr. Ali Rezai\, Groundbrea
 king Treatments for Alzheimer's and Parkinson's\n\nDr. James Urbanic\, Pre
 cision Proton Radiation for Treating Brain Cancers\n\nCheck-In: Begins at 
 9:00 a.m.\n\nProgram Schedule: 10:00 a.m. - 2:00 p.m.\n\nTicket Informatio
 n:\n\nTicket Prices:\n\nVIP Table of 10: $2\,500 ($250 per person)\n\nSurv
 ivor Table Sponsorship: $2\,500 VIP Table of 10 (Donation for survivors of
  cancer and other conditions)\n\nSales End: April 19\, 2024\n\nRefund Poli
 cy: Contact the organizer for refund requests.\n\nVIP Inclusions:\n\nInclu
 des organic gourmet lunch and VIP seating.\n\nEssentials for Bringing:\n\n
 Not specified.\n\nParking Option:\n\nGET TICKETS\n\n\n\nInformation not pr
 ovided.VIP:\n\nVIP seating and privileges available.\n\nPlease note that t
 he event is subject to move indoors in case of inclement weather. For furt
 her updates\, refer to CancerSchmancer.org.\n\n\n\n\n\n\n\n\n\n
ATTACH;FMTTYPE=image/jpeg:https://breathelosangeles.us/wp-content/uploads/
 2024/03/https___cdn.evbuc_.com_images_705853499_137676911104_1_original.jp
 eg
LOCATION:Jerry Moss Plaza - Dorothy Chandler Pavilion\, 135 North Grand Ave
 nue Los Angeles\, CA 90012 United States\, CA \,  United States\, 90012\, 
 CA\, United States
X-APPLE-STRUCTURED-LOCATION;VALUE=URI;X-ADDRESS=135 North Grand Avenue Los 
 Angeles\, CA 90012 United States\, CA \,  United States\, 90012\, CA\, Uni
 ted States;X-APPLE-RADIUS=100;X-TITLE=Jerry Moss Plaza - Dorothy Chandler 
 Pavilion:geo:0,0
END:VEVENT
BEGIN:VTIMEZONE
TZID:America/Los_Angeles
X-LIC-LOCATION:America/Los_Angeles
BEGIN:DAYLIGHT
DTSTART:20240310T030000
TZOFFSETFROM:-0800
TZOFFSETTO:-0700
TZNAME:PDT
END:DAYLIGHT
END:VTIMEZONE
END:VCALENDAR