BEGIN:VCALENDAR
VERSION:2.0
PRODID:-//wp-events-plugin.com//7.2.3.1//EN
BEGIN:VEVENT
UID:903@breathelosangeles.us
DTSTART;TZID=America/Los_Angeles;VALUE=DATE:20250223
DTEND;TZID=America/Los_Angeles;VALUE=DATE:20250224
DTSTAMP:20250213T155359Z
URL:https://breathelosangeles.us/events/the-five-elements-of-thyroid-healt
 h/
SUMMARY:The Five Elements of Thyroid Health
DESCRIPTION:\n\n\n\n\n\n\n\n\n\nThis class is now available as a hybrid eve
 nt\, allowing you to attend either online or in person. A Zoom link will b
 e sent via Eventbrite 24 hours prior to the event.\nThis comprehensive cou
 rse delves into the treatment of Hashimoto's thyroiditis and other thyroid
  conditions through the lens of Traditional Chinese Medicine (TCM) Five El
 ement theory\, alongside modern functional medicine approaches. Specifical
 ly designed for acupuncture practitioners\, the course aims to enhance dia
 gnostic and treatment skills for autoimmune thyroid disorders. Participant
 s will gain insight into how to use TCM diagnostic principles\, dietary th
 erapy\, and lifestyle modifications to treat thyroid health issues.\nThe c
 ourse will explore the application of the Five Element theory to understan
 d thyroid pathophysiology\, help practitioners interpret key thyroid lab m
 arkers\, and guide them in creating personalized treatment strategies. It 
 will also cover the integration of TCM with functional medicine\, offering
  practical advice on dietary changes and lifestyle adjustments that suppor
 t optimal thyroid health. Through this integrative approach\, practitioner
 s will be equipped with the knowledge and tools to address the root causes
  of thyroid dysfunction and provide holistic\, effective care for their pa
 tients.\nRefund Policy: Cancellations made in writing one week prior to th
 e start of the course will receive a refund\, minus a $30 administrative f
 ee. No refunds will be issued for cancellations made after this date.\nCal
 ifornia Acupuncture Board CEU Provider Number: 0128\n\n\n\n\n\n\n\n\n\n\n\
 n\n\n\n\n\n\n\n\n\n\n\n\n\n\n\n\nGET TICKETS\n
ATTACH;FMTTYPE=image/jpeg:https://breathelosangeles.us/wp-content/uploads/
 2025/02/The-Five-Elements-of-Thyroid-Health.jpeg
CATEGORIES:Wellness Events
LOCATION:Yo San University of Traditional Chinese Medicine\, 13315 W. Washi
 ngton Boulevard\, Los Angeles\, California\, 90066\, CA\, United States
X-APPLE-STRUCTURED-LOCATION;VALUE=URI;X-ADDRESS=13315 W. Washington Bouleva
 rd\, Los Angeles\, California\, 90066\, CA\, United States;X-APPLE-RADIUS=
 100;X-TITLE=Yo San University of Traditional Chinese Medicine:geo:0,0
END:VEVENT
BEGIN:VTIMEZONE
TZID:America/Los_Angeles
X-LIC-LOCATION:America/Los_Angeles
BEGIN:STANDARD
DTSTART:20241103T010000
TZOFFSETFROM:-0700
TZOFFSETTO:-0800
TZNAME:PST
END:STANDARD
END:VTIMEZONE
END:VCALENDAR