BEGIN:VCALENDAR
VERSION:2.0
PRODID:-//wp-events-plugin.com//7.2.3.1//EN
BEGIN:VEVENT
UID:810@breathelosangeles.us
DTSTART;TZID=America/Los_Angeles:20241110T083000
DTEND;TZID=America/Los_Angeles:20241110T110000
DTSTAMP:20241022T153456Z
URL:https://breathelosangeles.us/events/the-gratitude-hike-a-nature-walk-a
 nd-empowerment-coaching-experience/
SUMMARY:The Gratitude Hike! A nature walk and empowerment coaching experien
 ce!
DESCRIPTION:The Gratitude Hike: A Nature Walk and Empowerment Coaching Expe
 rience\n\nAs the year draws to a close\, join an empowering and reflective
  experience at Kenneth Hahn Park in Los Angeles with "The Gratitude Hike\,
 " a nature walk combined with personal growth coaching. This event is desi
 gned to help participants enter a space of deep gratitude and affirmation 
 in a serene\, natural setting.\n\nEvent Highlights:\n\n 	Date &amp\; Locat
 ion: Kenneth Hahn Park\, Los Angeles\n 	Early Bird Registration: $37 (ends
  Friday\, 10/25)\; Regular price $45\n 	Registration Deadline: Thursday\, 
 10/31\n\nBefore participating\, attendees will engage in an Experience Cal
 l and complete a pre-survey. During the call\, Dr. Shani Byard will ask th
 oughtful questions\, such as:\n\n 	"What brings you joy?"\n 	"Who are you 
 becoming?"\n 	"Where do you feel stuck?"\n\nThese conversations are intend
 ed to explore your personal goals\, challenges\, and aspirations\, setting
  the stage for the hike.\n\nWhat to Expect:\n\n 	A calming\, moderate natu
 re walk.\n 	Empowerment Coaching: Practical tools and strategies to help y
 ou achieve personal and professional goals.\n 	Vision-Based Reflections: G
 roup and individual reflections based on your goals\, dreams\, and desires
 .\n 	Journaling and Affirmations: Contemplative practices during the hike 
 to foster growth and transformation.\n\nThis experience is designed for th
 ose seeking to reconnect with themselves in nature\, gain clarity on their
  future\, and cultivate gratitude as they close out the year. Register ear
 ly to secure your spot and complete the necessary pre-call and survey with
  Dr. Byard.\n\nFor more details\, visit Dr. Shani Byard's Legacy Refresh a
 t LegacyRefresh.com.\n\nDon’t miss this chance to pause\, reflect\, and 
 empower yourself in nature!\n\nGET TICKETS\n
ATTACH;FMTTYPE=image/jpeg:https://breathelosangeles.us/wp-content/uploads/
 2024/10/The-Gratitude-Hike-A-nature-walk-and-empowerment-coaching-experien
 ce.jpeg
CATEGORIES:Wellness Events
LOCATION:Kenneth Hahn State Recreation Area\, 4100 South La Cienega Bouleva
 rd \, Los Angeles\, California\, 90056\, CA\, United States
X-APPLE-STRUCTURED-LOCATION;VALUE=URI;X-ADDRESS=4100 South La Cienega Boule
 vard \, Los Angeles\, California\, 90056\, CA\, United States;X-APPLE-RADI
 US=100;X-TITLE=Kenneth Hahn State Recreation Area:geo:0,0
END:VEVENT
BEGIN:VTIMEZONE
TZID:America/Los_Angeles
X-LIC-LOCATION:America/Los_Angeles
BEGIN:STANDARD
DTSTART:20241103T010000
TZOFFSETFROM:-0700
TZOFFSETTO:-0800
TZNAME:PST
END:STANDARD
END:VTIMEZONE
END:VCALENDAR