BEGIN:VCALENDAR
VERSION:2.0
PRODID:-//wp-events-plugin.com//7.2.3.1//EN
BEGIN:VEVENT
UID:537@breathelosangeles.us
DTSTART;TZID=America/Los_Angeles:20241016T080000
DTEND;TZID=America/Los_Angeles:20241016T123000
DTSTAMP:20240925T160457Z
URL:https://breathelosangeles.us/events/the-mental-health-crisis-in-latino
 -communities-past-present-future/
SUMMARY:The Mental Health Crisis In Latino Communities (Past\, Present & Fu
 ture)
DESCRIPTION:In honor of Hispanic Heritage Month\, join an important discuss
 ion focusing on the mental health crisis within Latino communities. This e
 vent will shed light on the past\, present\, and future of mental health c
 are for Latinos\, addressing challenges\, progress\, and the path forward.
 \n\nDate: Wednesday\, October 16\, 2024\nLocation: Hilton Los Angeles/San 
 Gabriel\n\nExplore the unique cultural and linguistic factors that impact 
 mental health in Latino communities\, while learning about the warning sig
 ns and risk factors related to mental health issues. Experts and community
  leaders will share their insights into overcoming barriers to care and im
 proving outcomes for those affected by mental health challenges in Latino 
 populations.\n\nThis is an opportunity to deepen your understanding of how
  cultural relevance shapes mental health treatment and how the community c
 an work together to promote better mental well-being for all.\n\nDon’t m
 iss this enriching conversation on a critical topic impacting the future o
 f Latino mental health care.\n\nGET TICKETS\n
ATTACH;FMTTYPE=image/jpeg:https://breathelosangeles.us/wp-content/uploads/
 2024/09/The-Mental-Health-Crisis-In-Latino-Communities-Past-Present-Future
 .jpg
CATEGORIES:Wellness Events
LOCATION:Hilton Los Angeles/San Gabriel\, 225 West Valley Boulevard\, San G
 abriel\, California\,  91776\, CA\, United States
X-APPLE-STRUCTURED-LOCATION;VALUE=URI;X-ADDRESS=225 West Valley Boulevard\,
  San Gabriel\, California\,  91776\, CA\, United States;X-APPLE-RADIUS=100
 ;X-TITLE=Hilton Los Angeles/San Gabriel:geo:0,0
END:VEVENT
BEGIN:VTIMEZONE
TZID:America/Los_Angeles
X-LIC-LOCATION:America/Los_Angeles
BEGIN:DAYLIGHT
DTSTART:20240310T030000
TZOFFSETFROM:-0800
TZOFFSETTO:-0700
TZNAME:PDT
END:DAYLIGHT
END:VTIMEZONE
END:VCALENDAR