BEGIN:VCALENDAR
VERSION:2.0
PRODID:-//wp-events-plugin.com//7.2.3.1//EN
BEGIN:VEVENT
UID:17@breathelosangeles.us
DTSTART;TZID=America/Los_Angeles:20240420T100000
DTEND;TZID=America/Los_Angeles:20240420T150000
DTSTAMP:20240312T122152Z
URL:https://breathelosangeles.us/events/the-mindfulness-expo/
SUMMARY:The Mindfulness Expo
DESCRIPTION:\n\n\n\n\n\n\n\n\n\n\n\n\n\n\n\n\n\n\n\n\n\n\n\n\nEmbark on a t
 ransformative journey at The Mindfulness Expo – a captivating one-day ev
 ent seamlessly woven with invigorating yoga and soul-enriching sound bath 
 classes\, illuminating workshops\, and an array of thoughtfully curated ex
 hibitors dedicated to the realms of mindfulness and wellness. This immersi
 ve experience awaits\, promising a harmonious blend of activities aimed at
  nurturing your mind\, body\, and spirit. Join us on this singular day\, w
 here every element is meticulously crafted to elevate your well-being and 
 usher you into a state of mindful living.\n\n\n\n\n\n\n\n\n\n\n\n\n\nEvent
  Information:\n\nEvent Name: The Mindfulness Expo\n\nHosted by: The Mindfu
 lness Expo\n\nDate and Time: Saturday\, April 20\, 10:00 AM - 5:00 PM PDT\
 n\nLocation: Anaheim Convention Center\, 800 W Katella\, Anaheim\, CA 9280
 2\, United States\n\nAbout this Event: The Mindfulness Expo invites you to
  a transformative one-day event dedicated to your well-being. Immerse your
 self in a day of self-care and personal growth on April 20th\, featuring y
 oga and sound bath classes\, engaging workshops\, and a showcase of exhibi
 tors focusing on mindfulness and wellness. With 262 followers and four yea
 rs on Eventbrite\, The Mindfulness Expo is a trusted platform for your wel
 lness journey.\n\nTicket Information:\n\n\n\n\n\n\nTICKET PRICE :  $42\n\
 nMobile eTicket: Available\n\n\n\n\nGET TICKETS\n\nRefund Policy: No Refun
 ds\n\nWorkout Session Detail: Explore a variety of activities designed to 
 nourish your mind\, body\, and spirit:\n\nYoga and sound bath classes\n\nW
 orkshops on mindfulness and wellness\n\nExhibitors showcasing valuable res
 ources\n\nEssentials to Bring:\n\nYoga mat (Don’t forget it!)\n\nParking
  Option: Convenient parking available at the Anaheim Convention Center for
  a stress-free experience.\n\nThis seven-hour event allows you to create y
 our own schedule\, offering flexibility to tailor the experience to your p
 references. No add-on fees for workshops or yoga classes\, making it a sea
 mless and inclusive experience. Connect with like-minded individuals\, gai
 n valuable insights\, and discover techniques for reducing stress and cult
 ivating a positive mindset. Mark your calendars and secure your tickets no
 w for an enriching day of mindfulness and wellness at The Mindfulness Expo
  on April 20th!\n\n\n\n\n\n\n\n\n\n\n\n\n
ATTACH;FMTTYPE=image/jpeg:https://breathelosangeles.us/wp-content/uploads/
 2024/03/https___cdn.evbuc_.com_images_649802669_21949844848_1_original.jpe
 g
CATEGORIES:Wellness Events
LOCATION:Anaheim Convention Center\, Anaheim Convention Center\, 800 W Kate
 lla\, Anaheim\, CA 92802\, United States\, CA\, United States\, 92802\, CA
 \, United States
X-APPLE-STRUCTURED-LOCATION;VALUE=URI;X-ADDRESS=Anaheim Convention Center\,
  800 W Katella\, Anaheim\, CA 92802\, United States\, CA\, United States\,
  92802\, CA\, United States;X-APPLE-RADIUS=100;X-TITLE=Anaheim Convention 
 Center:geo:0,0
END:VEVENT
BEGIN:VTIMEZONE
TZID:America/Los_Angeles
X-LIC-LOCATION:America/Los_Angeles
BEGIN:DAYLIGHT
DTSTART:20240310T030000
TZOFFSETFROM:-0800
TZOFFSETTO:-0700
TZNAME:PDT
END:DAYLIGHT
END:VTIMEZONE
END:VCALENDAR