BEGIN:VCALENDAR
VERSION:2.0
PRODID:-//wp-events-plugin.com//7.2.3.1//EN
BEGIN:VEVENT
UID:888@breathelosangeles.us
DTSTART;TZID=America/Los_Angeles;VALUE=DATE:20250221
DTEND;TZID=America/Los_Angeles;VALUE=DATE:20250222
DTSTAMP:20250212T170320Z
URL:https://breathelosangeles.us/events/tinseltown-social-with-aps/
SUMMARY:Tinseltown Social with APS
DESCRIPTION:Join the Armenian Professional Society (APS) for an unforgettab
 le evening under the Los Angeles skyline at our first mixer of the year! T
 his highly anticipated social event is the perfect opportunity to connect\
 , network\, and build relationships with fellow professionals in a sophist
 icated and vibrant setting.\n\nEvent Details\n\n 	Date: Friday\, February 
 21\, 2025\n 	Time: 7:00 PM – 12:00 AM\n 	Venue: Skybar Los Angeles (West
  Hollywood)\n 	Address: 8440 West Sunset Blvd\, West Hollywood\, CA 90069\
 n\nParking Information\nAttendees are encouraged to plan ahead for parking
 . The following options are available:\n\n 	City of West Hollywood Queens 
 Lot – 8459 Sunset Blvd ($4 for 2 hours\, 3-minute walk)\n 	Drive Hospita
 lity\, LLC Mondrian Los Angeles – 8440 Sunset Blvd (1-minute walk)\n 	SP
  Plus Corporation Piazza del Sol – 8439 Sunset Blvd (1-minute walk)\n\nP
 lease review parking lot signs for hours\, rates\, and availability.\nWhy 
 Attend?\n\n 	Expand Your Professional Network: Meet and engage with like-m
 inded professionals from diverse industries.\n 	Celebrate Community &amp\;
  Culture: Enjoy an evening of great company\, engaging conversations\, and
  lively entertainment.\n 	Support a Meaningful Cause: Proceeds from this e
 vent contribute to the APS Graduate Student Scholarship Fund\, helping des
 erving students in the U.S. and abroad.\n 	Exclusive Member Perks: APS mem
 bers receive special discounts on events and additional benefits throughou
 t the year. To become a member\, visit: armenianprofessionalsociety.org/me
 mbership.\n\nRefund Policy\nRefund requests will be accepted up to 12 hour
 s before the event. After this time\, no refunds will be granted.\nCode of
  Conduct\nAPS is dedicated to fostering a safe\, inclusive\, and respectfu
 l environment for all attendees. Whether attending\, speaking\, sponsoring
 \, or engaging with APS\, participants are expected to uphold the followin
 g principles:\nComfort &amp\; Safety\n\n 	Respect health and safety protoc
 ols.\n 	Refrain from disruptive\, unsafe\, or inappropriate behavior.\n 	F
 ollow all venue guidelines\, including emergency procedures and age restri
 ctions.\n 	Report any safety concerns immediately.\n\nHarassment &amp\; Di
 scrimination Policy\nAPS maintains a zero-tolerance policy for any form of
  harassment or discrimination\, including:\n\n 	Verbal abuse\, offensive l
 anguage\, or inappropriate gestures.\n 	Threats\, intimidation\, or acts o
 f violence.\n 	Discrimination based on race\, gender\, sexual orientation\
 , religion\, disability\, or any other protected category.\n\nAttendees wh
 o violate these policies may be asked to leave and could be barred from fu
 ture APS events at the discretion of the APS board.\nResponsible Consumpti
 on\nAlcohol may be served at the event. Attendees are expected to consume 
 responsibly and adhere to venue policies and all applicable laws regarding
  alcohol\, smoking\, vaping\, and tobacco use.\nReporting Concerns\nIf you
  witness any misconduct or experience any issues during the event\, please
  report it to APS leadership at: hello@armenianprofessionalsociety.org. Ad
 dress your email to the APS Presidents and include relevant details about 
 the incident.\nJoin Us for an Unforgettable Night!\nDon’t miss this incr
 edible opportunity to network\, celebrate\, and support a great cause in a
  spectacular setting. Secure your spot today\, and let’s make the Tinsel
 town Social an event to remember!\n\nFor more details and updates\, follow
  APS on social media and visit our official website.\nWe look forward to w
 elcoming you!\n\nGET TICKETS\n
ATTACH;FMTTYPE=image/jpeg:https://breathelosangeles.us/wp-content/uploads/
 2025/02/Tinseltown-Social-with-APS.jpeg
CATEGORIES:Wellness Events
LOCATION:Skybar Los Angeles\, 8440 West Sunset\, Los Angeles\, California\,
  90069 \, CA\, United States
X-APPLE-STRUCTURED-LOCATION;VALUE=URI;X-ADDRESS=8440 West Sunset\, Los Ange
 les\, California\, 90069 \, CA\, United States;X-APPLE-RADIUS=100;X-TITLE=
 Skybar Los Angeles:geo:0,0
END:VEVENT
BEGIN:VTIMEZONE
TZID:America/Los_Angeles
X-LIC-LOCATION:America/Los_Angeles
BEGIN:STANDARD
DTSTART:20241103T010000
TZOFFSETFROM:-0700
TZOFFSETTO:-0800
TZNAME:PST
END:STANDARD
END:VTIMEZONE
END:VCALENDAR