BEGIN:VCALENDAR
VERSION:2.0
PRODID:-//wp-events-plugin.com//7.2.3.1//EN
BEGIN:VEVENT
UID:324@breathelosangeles.us
DTSTART;TZID=America/Los_Angeles:20240712T190000
DTEND;TZID=America/Los_Angeles:20240714T180000
DTSTAMP:20240629T133227Z
URL:https://breathelosangeles.us/events/transformative-breathwork-training
 -module-4/
SUMMARY:Transformative Breathwork Training Module 4
DESCRIPTION:Immerse yourself in the profound journey of Module 4 of the Tra
 nsformative Breathwork Training\, designed to elevate your breathwork prac
 tice to new heights of personal growth and healing. This advanced module p
 resents participants with a comprehensive array of techniques and exercise
 s that harness the transformative power of conscious breathing.\n\nModule 
 Highlights:\n\n 	Advanced Techniques: Delve into sophisticated breathwork 
 techniques tailored to deepen your practice and unlock profound healing ex
 periences.\n 	Personal Growth: Explore how conscious breathing can facilit
 ate deep personal growth\, helping participants overcome emotional barrier
 s and achieve inner clarity.\n 	Healing Modalities: Learn a variety of the
 rapeutic breathwork modalities that promote physical\, emotional\, and spi
 ritual healing.\n 	Integration and Application: Gain insights into integra
 ting breathwork practices into daily life for sustained well-being and per
 sonal transformation.\n\nWhy Choose Module 4?\n\n 	Expert Guidance: Receiv
 e expert guidance from seasoned instructors with extensive experience in b
 reathwork facilitation and personal transformation.\n 	Comprehensive Curri
 culum: Benefit from a structured curriculum that builds upon foundational 
 breathwork knowledge\, offering advanced insights and practices.\n 	Commun
 ity Support: Connect with a community of like-minded individuals dedicated
  to personal growth and holistic healing through breathwork.\n\nWho Should
  Attend?\n\nModule 4 of the Transformative Breathwork Training is ideal fo
 r individuals who have completed earlier modules or have a foundational un
 derstanding of breathwork practices. It is particularly suited for therapi
 sts\, healers\, coaches\, and anyone committed to deepening their understa
 nding of breathwork as a tool for personal and spiritual development.\n\nJ
 oin Us:\n\nEmbark on a transformative journey with Module 4 of the Transfo
 rmative Breathwork Training. Expand your breathwork toolkit\, cultivate in
 ner resilience\, and harness the profound healing potential of conscious b
 reathing. Discover how advanced breathwork techniques can empower you to n
 avigate life's challenges with clarity\, compassion\, and vitality.\n\nEnr
 oll today and embark on a journey of personal growth and healing through b
 reathwork. Embrace the power of your breath to transform your life.\n\nGET
  TICKETS\n
ATTACH;FMTTYPE=image/jpeg:https://breathelosangeles.us/wp-content/uploads/
 2024/06/Transformative-Breathwork-Training-Module-4.jpg
CATEGORIES:Mindfulness Events,Wellness Events
LOCATION:Unplug Meditation\, 12401 Wilshire Boulevard ##101\, Los Angeles\,
  California\, 90025\, CA\, United States
X-APPLE-STRUCTURED-LOCATION;VALUE=URI;X-ADDRESS=12401 Wilshire Boulevard ##
 101\, Los Angeles\, California\, 90025\, CA\, United States;X-APPLE-RADIUS
 =100;X-TITLE=Unplug Meditation:geo:0,0
END:VEVENT
BEGIN:VTIMEZONE
TZID:America/Los_Angeles
X-LIC-LOCATION:America/Los_Angeles
BEGIN:DAYLIGHT
DTSTART:20240310T030000
TZOFFSETFROM:-0800
TZOFFSETTO:-0700
TZNAME:PDT
END:DAYLIGHT
END:VTIMEZONE
END:VCALENDAR