BEGIN:VCALENDAR
VERSION:2.0
PRODID:-//wp-events-plugin.com//7.2.3.1//EN
BEGIN:VEVENT
UID:55@breathelosangeles.us
DTSTART;TZID=America/Los_Angeles:20240527T140000
DTEND;TZID=America/Los_Angeles:20240527T160000
DTSTAMP:20240323T111659Z
URL:https://breathelosangeles.us/events/transmasculine-pelvic-health-empow
 erment-workshop/
SUMMARY:Transmasculine Pelvic Health Empowerment Workshop
DESCRIPTION:\n\n\n\n\n\n\n\n\n\n\n\n\nEvent Information:\n\n\n\n\n\n\n\n\n\
 n\n\n\n\nEvent Name: Transmasculine Pelvic Health Empowerment Workshop\n\n
 Hosted by: Pelvic Sanctuary\n\nDate and Time:\n\nDate: Saturday\, April 27
 \n\nTime: 2:00 PM - 4:00 PM PDT\n\nLocation:\n\nVenue: Tom of Finland Hous
 e\n\nAddress: 1421 Laveta Terrace\, Los Angeles\, CA 90026\, United States
 \n\nTicket Price: Free\n\nGET TICKETS\n\nRefund Policy:\n\nContact the org
 anizer to request a refund. Eventbrite's fee is nonrefundable.\n\nAbout th
 is Event:\n\nDuration: 2 hours\n\nWelcome to the Transmasculine Pelvic Hea
 lth Empowerment Workshop\, hosted by Pelvic Sanctuary. This in-person even
 t\, exclusively for those identifying as TGI/ENBY\, aims to create a safe 
 and inclusive space for transmasculine individuals to explore and take cha
 rge of their pelvic health and overall well-being.\n\nWorkshop Highlights:
 \n\nLecture on pelvic health anatomy\, physiology\, and dysfunction awaren
 ess\n\nShort break with complimentary snacks and drinks\n\nBreathwork and 
 gentle movement exercises in the grass (bring a yoga mat or towel)\n\nConv
 ersation and reflection on the development of Pelvic Sanctuary as a nonpro
 fit\, seeking input on program expansion and improvement to better serve y
 our needs\n\nEssentials to Bring:\n\nYoga mat or towel for grass exercises
 \n\nThe Tom of Finland House for this transformative workshop where your v
 oice matters. Be part of a supportive community focusing on pelvic health\
 , embracing inclusivity\, and empowering transmasculine individuals. Sign 
 up and embark on a journey towards well-being and self-empowerment!
ATTACH;FMTTYPE=image/jpeg:https://breathelosangeles.us/wp-content/uploads/
 2024/03/https___cdn.evbuc_.com_images_715555799_1304879188703_1_original.j
 pg
CATEGORIES:Wellness Events
LOCATION:Tom of Finland House\, Tom of Finland House  1421 Laveta Terrace L
 os Angeles\, CA 90026 United States\, Los Angeles\, United States\,  90026
  \,  CA\, United States
X-APPLE-STRUCTURED-LOCATION;VALUE=URI;X-ADDRESS=Tom of Finland House  1421 
 Laveta Terrace Los Angeles\, CA 90026 United States\, Los Angeles\, United
  States\,  90026 \,  CA\, United States;X-APPLE-RADIUS=100;X-TITLE=Tom of 
 Finland House:geo:0,0
END:VEVENT
BEGIN:VTIMEZONE
TZID:America/Los_Angeles
X-LIC-LOCATION:America/Los_Angeles
BEGIN:DAYLIGHT
DTSTART:20240310T030000
TZOFFSETFROM:-0800
TZOFFSETTO:-0700
TZNAME:PDT
END:DAYLIGHT
END:VTIMEZONE
END:VCALENDAR