BEGIN:VCALENDAR
VERSION:2.0
PRODID:-//wp-events-plugin.com//7.2.3.1//EN
BEGIN:VEVENT
UID:253@breathelosangeles.us
DTSTART;TZID=America/Los_Angeles:20240505T100000
DTEND;TZID=America/Los_Angeles:20240505T140000
DTSTAMP:20240422T113448Z
URL:https://breathelosangeles.us/events/trials-together-health-wellness/
SUMMARY:Navigating Clinical Trials Together - Health & Wellness Fair for Al
 l Ages
DESCRIPTION:\nFree Event: Learn About Alzheimer's Research &amp\; Treatment
  Options!\nAre you a caregiver\, family member\, friend\, or someone who c
 ares for a loved one with Alzheimer's? We invite you to a valuable event f
 ocused on treatment and research advancements!\nGain Valuable Insights:\nJ
 oin us at the Health For All Ages Event on May 5th from 10:00 AM to 2:00 P
 M at Lomita City Hall. Our booth and mobile unit will be staffed by experi
 enced clinicians from Otsuka\, a leading pharmaceutical company\, and EmVe
 nio\, an authorized Otsuka vendor.\nDiscover Promising Research:\nThis eve
 nt provides an excellent opportunity to learn about:\n\n\n 	Clinical Trial
 s: Get information about ongoing clinical trials researching treatments fo
 r agitation associated with Alzheimer's dementia.\n 	Research Studies: Exp
 lore the latest research advancements in Alzheimer's treatment and managem
 ent.\n 	Available Options: Learn about potential treatment options that ma
 y benefit your loved one.\n\nMeet the Experts:\nOur team of dedicated clin
 icians will be available to answer your questions and address any concerns
  you may have about Alzheimer's treatment and research. They can provide v
 aluable insights and support during this challenging time.\nDon't Miss Thi
 s Opportunity:\nThis free event offers a wealth of information and resourc
 es for caregivers and loved ones impacted by Alzheimer's. Join us on May 5
 th and take a step forward in exploring potential treatment options for yo
 ur loved one.\nLocation:\nLomita City Hall (Booth &amp\; Mobile Unit) Date
  &amp\; Time: May 5th\, 10:00 AM - 2:00 PM\nTogether\, we can make a diffe
 rence in the lives of those living with Alzheimer's disease.\n\n\n\nBOOK S
 POTS\n
ATTACH;FMTTYPE=image/jpeg:https://breathelosangeles.us/wp-content/uploads/
 2024/04/https___cdn.evbuc_.com_images_730223449_1358668577063_1_original-1
 .jpeg
CATEGORIES:Wellness Events
LOCATION:24300 Narbonne Ave\, 24300 Narbonne Avenue\, Lomita\, California\,
  90717\, United States
X-APPLE-STRUCTURED-LOCATION;VALUE=URI;X-ADDRESS=24300 Narbonne Avenue\, Lom
 ita\, California\, 90717\, United States;X-APPLE-RADIUS=100;X-TITLE=24300 
 Narbonne Ave:geo:0,0
END:VEVENT
BEGIN:VTIMEZONE
TZID:America/Los_Angeles
X-LIC-LOCATION:America/Los_Angeles
BEGIN:DAYLIGHT
DTSTART:20240310T030000
TZOFFSETFROM:-0800
TZOFFSETTO:-0700
TZNAME:PDT
END:DAYLIGHT
END:VTIMEZONE
END:VCALENDAR