BEGIN:VCALENDAR
VERSION:2.0
PRODID:-//wp-events-plugin.com//7.2.3.1//EN
BEGIN:VEVENT
UID:291@breathelosangeles.us
DTSTART;TZID=America/Los_Angeles:20240602T140000
DTEND;TZID=America/Los_Angeles:20240602T165500
DTSTAMP:20240522T045032Z
URL:https://breathelosangeles.us/events/turandot/
SUMMARY:TURANDOT
DESCRIPTION:Prepare to be swept away by the grandeur of Turandot\, an opera
  that dazzles with its blend of fantasy and drama. Delve into a world wher
 e imagination meets tradition\, as LA Opera brings to life this timeless m
 asterpiece with a fresh perspective.\n\nJoin us for an unforgettable journ
 ey through the mysterious realms of ancient Asia\, where love\, courage\, 
 and destiny collide in a breathtaking spectacle. Witness the clash of will
 s between a fearless prince and the enigmatic Turandot\, whose icy facade 
 hides a tumultuous heart.\n\nBe captivated by the powerful performances of
  soprano Angela Meade as Turandot\, tenor Russell Thomas as the daring pri
 nce\, and soprano Guanqun Yu as the embodiment of unwavering devotion. Let
  their voices transport you to a realm of passion and intrigue\, where eve
 ry note resonates with emotion.\n\nDon't miss your chance to be part of th
 is extraordinary event. Join us and be amazed as Turandot unfolds its magi
 c on stage\, leaving you spellbound and craving for more.\n\nGET TICKETS\n
ATTACH;FMTTYPE=image/jpeg:https://breathelosangeles.us/wp-content/uploads/
 2024/05/Turandot.webp
LOCATION:Dorothy Chandler Pavilion\, 135 North Grand Avenue Los Angeles\, C
 A 90012 United States\, CA\, United States\, 90012\, CA\, United States
X-APPLE-STRUCTURED-LOCATION;VALUE=URI;X-ADDRESS=135 North Grand Avenue Los 
 Angeles\, CA 90012 United States\, CA\, United States\, 90012\, CA\, Unite
 d States;X-APPLE-RADIUS=100;X-TITLE=Dorothy Chandler Pavilion:geo:0,0
END:VEVENT
BEGIN:VTIMEZONE
TZID:America/Los_Angeles
X-LIC-LOCATION:America/Los_Angeles
BEGIN:DAYLIGHT
DTSTART:20240310T030000
TZOFFSETFROM:-0800
TZOFFSETTO:-0700
TZNAME:PDT
END:DAYLIGHT
END:VTIMEZONE
END:VCALENDAR