BEGIN:VCALENDAR
VERSION:2.0
PRODID:-//wp-events-plugin.com//7.2.3.1//EN
BEGIN:VEVENT
UID:809@breathelosangeles.us
DTSTART;TZID=America/Los_Angeles:20241109T093000
DTEND;TZID=America/Los_Angeles:20241109T130000
DTSTAMP:20241022T151634Z
URL:https://breathelosangeles.us/events/unlock-spiritual-healing-financial
 -abundance/
SUMMARY:Unlock Spiritual Healing & Financial Abundance
DESCRIPTION:Duration: 3.5 hours\nFormat: In-person\nFacilitator: Olivia Gon
 g\n\nIn the exclusive workshop titled "Unlock Spiritual Healing and Financ
 ial Abundance\," participants are invited to explore the powerful link bet
 ween spiritual healing and financial prosperity. Over the course of 3.5 ho
 urs\, facilitator Olivia Gong will guide attendees through a transformativ
 e experience aimed at fostering both emotional and financial growth.\n\nWh
 at You Will Learn:\n\n 	Understanding Trauma:\n\n 	Discover the hidden imp
 act of emotional trauma on both your personal and financial life.\n 	Learn
  three straightforward yet effective energy healing techniques to heal fro
 m past traumas\, restore emotional balance\, and develop resilience.\n\n\n
  	Spirituality and Financial Prosperity:\n\n 	Uncover the relationship bet
 ween true spiritual growth and financial abundance\, challenging the commo
 n belief that spirituality leads to financial sacrifice.\n 	Gain insights 
 into how spiritual practices\, endorsed by notable figures like Tony Robbi
 ns\, are deeply intertwined with achieving business and financial success.
 \n\n\n 	The Art of Manifestation:\n\n 	Explore the principles of manifesta
 tion and learn how healing from emotional traumas is an essential step in 
 mastering the art of manifesting financial abundance.\n 	Receive hands-on 
 guidance in applying manifestation techniques focused specifically on enha
 ncing financial well-being.\n\n\n\nSpecial Features:\n\n 	Energetic Healin
 g Sessions: Participants will experience individual energy healing session
 s aimed at removing emotional and energetic blockages\, helping to receive
  and channel divine energy.\n 	Manifestation Meditation: Engage in a guide
 d meditation specifically designed to align your energy with the goal of f
 inancial success\, providing a foundation for manifesting abundance.\n\nWh
 o Should Attend:\n\nThis workshop is ideal for individuals seeking to deep
 en their spiritual practice while also addressing financial obstacles. Whe
 ther you are new to spirituality or have existing experience\, this sessio
 n will provide valuable tools and insights for overcoming personal challen
 ges and fostering both spiritual and financial growth.\n\nJoin us for this
  unique opportunity to align your inner healing with outer abundance!\n\nG
 ET TICKETS\n
ATTACH;FMTTYPE=image/jpeg:https://breathelosangeles.us/wp-content/uploads/
 2024/10/Unlock-Spiritual-Healing-Financial-Abundance.jpeg
CATEGORIES:Wellness Events
LOCATION:2302 S Fairview St\, 2302 South Fairview Street Santa Ana\, Santa 
 Ana\, California\, 92704\, CA\, United States
X-APPLE-STRUCTURED-LOCATION;VALUE=URI;X-ADDRESS=2302 South Fairview Street 
 Santa Ana\, Santa Ana\, California\, 92704\, CA\, United States;X-APPLE-RA
 DIUS=100;X-TITLE=2302 S Fairview St:geo:0,0
END:VEVENT
BEGIN:VTIMEZONE
TZID:America/Los_Angeles
X-LIC-LOCATION:America/Los_Angeles
BEGIN:STANDARD
DTSTART:20241103T010000
TZOFFSETFROM:-0700
TZOFFSETTO:-0800
TZNAME:PST
END:STANDARD
END:VTIMEZONE
END:VCALENDAR