BEGIN:VCALENDAR
VERSION:2.0
PRODID:-//wp-events-plugin.com//7.2.3.1//EN
BEGIN:VEVENT
UID:374@breathelosangeles.us
DTSTART;TZID=America/Los_Angeles:20240814T160000
DTEND;TZID=America/Los_Angeles:20240814T164500
DTSTAMP:20240813T054514Z
URL:https://breathelosangeles.us/events/uplifting-harmony-a-sound-bath-of-
 joyful-vibes/
SUMMARY:Uplifting Harmony - A Sound Bath of Joyful Vibes
DESCRIPTION:Step into a realm of tranquility and joy with "Uplifting Harmon
 y\," a transformative sound bath experience crafted to elevate your spirit
 s and immerse you in blissful energy. This unique session is designed to e
 nvelop you in a cocoon of soothing sound waves\, promoting deep relaxation
  and a profound sense of well-being.\n\nExperience the Magic of Uplifting 
 Harmony:\n\n 	Joyful Soundscapes: Allow yourself to be carried away by a s
 ymphony of harmonious tones and vibrations. The carefully curated sounds a
 re intended to uplift your mood\, clear away negativity\, and infuse your 
 life with positive energy.\n 	Guided Meditation: To enhance your experienc
 e\, the session includes a brief guided meditation. This calming practice 
 will help deepen your relaxation\, align your mind and body\, and further 
 amplify the joyous vibrations.\n 	Renew and Rejuvenate: As you immerse you
 rself in the sound bath\, feel the stresses of daily life dissolve and you
 r spirit rejuvenate. The harmonious sounds will gently cleanse your energy
  field\, leaving you refreshed\, balanced\, and inspired.\n\n"Uplifting Ha
 rmony" is more than just a sound bath—it's an invitation to reconnect wi
 th your inner joy and embrace a state of serene bliss. Join us for this up
 lifting journey and let the harmonious vibrations guide you to a place of 
 pure happiness and revitalization.\n\nGET TICKETS\n
ATTACH;FMTTYPE=image/jpeg:https://breathelosangeles.us/wp-content/uploads/
 2024/08/Uplifting-Harmony-A-Sound-Bath-of-Joyful-Vibes.png
CATEGORIES:Mindfulness Events,Things To Do,Wellness Events
LOCATION:Club Joyful\, 2121 Lincoln Boulevard\, Los Angeles\, California\, 
 90291\, CA\, United States
X-APPLE-STRUCTURED-LOCATION;VALUE=URI;X-ADDRESS=2121 Lincoln Boulevard\, Lo
 s Angeles\, California\, 90291\, CA\, United States;X-APPLE-RADIUS=100;X-T
 ITLE=Club Joyful:geo:0,0
END:VEVENT
BEGIN:VTIMEZONE
TZID:America/Los_Angeles
X-LIC-LOCATION:America/Los_Angeles
BEGIN:DAYLIGHT
DTSTART:20240310T030000
TZOFFSETFROM:-0800
TZOFFSETTO:-0700
TZNAME:PDT
END:DAYLIGHT
END:VTIMEZONE
END:VCALENDAR