BEGIN:VCALENDAR
VERSION:2.0
PRODID:-//wp-events-plugin.com//7.2.3.1//EN
BEGIN:VEVENT
UID:836@breathelosangeles.us
DTSTART;TZID=America/Los_Angeles;VALUE=DATE:20241122
DTEND;TZID=America/Los_Angeles;VALUE=DATE:20241125
DTSTAMP:20241101T091741Z
URL:https://breathelosangeles.us/events/urban-bush-women/
SUMMARY:Urban Bush Women
DESCRIPTION:In a historic move for Los Angeles’ dance scene\, Glorya Kauf
 man Presents Dance at The Music Center will open its 2024–2025 season wi
 th a landmark performance by the celebrated Brooklyn-based company\, Urban
  Bush Women. This groundbreaking ensemble\, revered for its dedication to 
 highlighting the experiences and stories of Black women\, is set to mark i
 ts 40th anniversary by being the first professional dance theater company 
 to perform at the iconic Mark Taper Forum. Known for its electrifying and 
 socially resonant performances\, Urban Bush Women brings a powerful narrat
 ive and bold storytelling style that has captivated audiences for decades.
 \n\nFor their West Coast debut at this legendary venue\, Urban Bush Women 
 will perform SCAT!… The Complex Lives of Al &amp\; Dot\, Dot &amp\; Al Z
 ollar\, a theatrical jazz-infused love story set against the backdrop of t
 he Great Migration. Rooted in a jazz club atmosphere\, this production fol
 lows the intertwined lives of Al and Dot Zollar\, exploring themes of resi
 lience\, love\, and self-discovery in the context of one of the most trans
 formative eras in American history. The piece not only celebrates the beau
 ty of Black culture and music but also offers a deeper exploration of iden
 tity\, migration\, and legacy.\n\nSCAT! is a testament to Urban Bush Women
 's commitment to blending dance\, theater\, and storytelling with powerful
  themes of social change. Under the direction of founder Jawole Willa Jo Z
 ollar\, the company continues to bring untold stories to the forefront of 
 the dance world\, inviting audiences to confront and reflect upon cultural
  and historical realities.\n\nWith their evocative choreography and compel
 ling narrative\, Urban Bush Women’s upcoming performance at the Music Ce
 nter is a monumental occasion\, and one that promises to leave a lasting i
 mpact on audiences.\n\nGET TICKETS\n
ATTACH;FMTTYPE=image/jpeg:https://breathelosangeles.us/wp-content/uploads/
 2024/11/Urban-Bush-Women.webp
CATEGORIES:Things To Do
END:VEVENT
BEGIN:VTIMEZONE
TZID:America/Los_Angeles
X-LIC-LOCATION:America/Los_Angeles
BEGIN:STANDARD
DTSTART:20241103T010000
TZOFFSETFROM:-0700
TZOFFSETTO:-0800
TZNAME:PST
END:STANDARD
END:VTIMEZONE
END:VCALENDAR