BEGIN:VCALENDAR
VERSION:2.0
PRODID:-//wp-events-plugin.com//7.2.3.1//EN
BEGIN:VEVENT
UID:918@breathelosangeles.us
DTSTART;TZID=America/Los_Angeles:20250309T090000
DTEND;TZID=America/Los_Angeles:20250309T170000
DTSTAMP:20250218T153458Z
URL:https://breathelosangeles.us/events/usui-reiki-level-1-training-certif
 ication/
SUMMARY:Usui Reiki Level 1 Training & Certification
DESCRIPTION:Unlock the power of self-healing and spiritual growth with Jenn
 ifer Dickens' transformative Usui Reiki Level 1 Training and Certification
  course in Santa Monica. Reiki\, a Japanese energy healing technique\, emp
 owers individuals to heal themselves\, loved ones\, pets\, and others thro
 ugh the channeling of universal energy. This foundational course is design
 ed for both beginners and experienced practitioners\, requiring no prior k
 nowledge or expertise. Participants will benefit equally\, whether new to 
 Reiki or seasoned bodyworkers.\nReiki Level 1 serves as the gateway to und
 erstanding and mastering this energy healing technique. Students will rece
 ive their Level 1 attunement and learn how to practice Reiki for personal 
 wellbeing. The course emphasizes self-care and healing\, offering particip
 ants tools to manage their energy\, emotions\, and mental clarity.\nThroug
 hout this comprehensive course\, students will:\n\n\n 	Receive a Level 1 R
 eiki attunement and learn to channel Reiki energy for self-healing and to 
 help others.\n 	Practice hands-on Reiki techniques to balance and harmoniz
 e their energy field.\n 	Explore the history\, origins\, and ethics of Rei
 ki\, understanding its journey from Japan to the West.\n 	Integrate basic 
 HeartMath practices to awaken their heart and enhance access to divine Rei
 ki energy.\n 	Engage in practices of contemplation\, intention-setting\, a
 nd heart-centered meditation to deepen their Reiki experience.\n 	Particip
 ate in group discussions\, ongoing practice\, and receive guidance from Je
 nnifer throughout the course.\n\nCourse Includes:\n\n\n 	Step-by-step pers
 onalized instruction tailored to individual learning styles.\n 	Hands-on p
 ractice of Reiki techniques on oneself and others.\n 	HeartMath Coherence 
 Breathing and Heart Lock-In techniques for emotional regulation and inner 
 peace.\n 	One attunement (initiation) to Reiki energy.\n 	A 33-page class 
 manual and a professional-quality certification upon completion.\n 	Journa
 ling to document personal insights and transformations.\n 	Access to teach
 er support both during and after the course.\n\nWhat to Expect: The class 
 combines lecture\, gentle Kundalini stretches\, HeartMath practices for he
 art activation\, meditation\, demonstrations\, and ample time for practice
 . Each participant will have the opportunity to give and receive a complet
 e Reiki treatment using the hand placement system taught in Level 1. Stude
 nts will also explore how to incorporate Reiki into daily life\, helping t
 o foster long-term resilience\, peace\, and harmony.\nParticipants will le
 ave the training empowered with a set of tools to calm their mind\, body\,
  and emotions. They will develop a personalized daily practice to maintain
  inner balance and achieve greater wellness. The course also provides a bl
 end of powerful techniques\, including:\n\n\n 	HeartMath Inner Ease Traini
 ng: Learn breathing techniques to calm the nervous system and cultivate em
 otional balance.\n 	Usui Reiki Level 1 Certification: Gain skills to heal 
 and relax your energetic field.\n 	Meditation &amp\; Mindfulness: Discover
  the Hong Sau technique to quiet the mind and enhance inner peace.\n\nWhy 
 Attend? By completing this training\, students will gain:\n\n\n 	A structu
 red morning and evening ritual to maintain inner calm.\n 	Tools to allevia
 te stress\, improve emotional balance\, and enhance mental clarity.\n 	A p
 eaceful and harmonious heart and mind.\n 	Techniques for a well-rested bod
 y\, supporting better overall health.\n 	The mindset and tools to live a m
 ore joyful\, light-hearted life.\n\nAbout Jennifer Dickens: Jennifer Dicke
 ns is a spiritual guide\, Reiki Master\, and certified HeartMath coach wit
 h deep spiritual roots in Kriya Yoga\, following the teachings of Paramaha
 nsa Yogananda. She is the creator of the Six Heart Illuminations program\,
  designed to awaken\, purify\, and heal the emotional and spiritual heart.
  As an intuitive healer\, Jennifer teaches students how to embody love and
  awaken their heart’s wisdom to connect with their true\, authentic natu
 re. Her unique approach combines emotional\, spiritual\, and heart-centere
 d healing for profound transformation.\nTo learn more about Jennifer and h
 er work\, visit her website: Jenn Dickens.\n\n\nGET TICKETS\n
ATTACH;FMTTYPE=image/jpeg:https://breathelosangeles.us/wp-content/uploads/
 2025/02/Usui-Reiki-Level-1-Training-Certification.avif
CATEGORIES:Wellness Events
LOCATION:Be Love Studio 145 Bay St\, Tower 26 Ocean Swim Short Term Parking
  Lot\, Santa Monica\, California\, 90405\, CA\, United States
X-APPLE-STRUCTURED-LOCATION;VALUE=URI;X-ADDRESS=Tower 26 Ocean Swim Short T
 erm Parking Lot\, Santa Monica\, California\, 90405\, CA\, United States;X
 -APPLE-RADIUS=100;X-TITLE=Be Love Studio 145 Bay St:geo:0,0
END:VEVENT
BEGIN:VTIMEZONE
TZID:America/Los_Angeles
X-LIC-LOCATION:America/Los_Angeles
BEGIN:DAYLIGHT
DTSTART:20250309T030000
TZOFFSETFROM:-0800
TZOFFSETTO:-0700
TZNAME:PDT
END:DAYLIGHT
END:VTIMEZONE
END:VCALENDAR