BEGIN:VCALENDAR
VERSION:2.0
PRODID:-//wp-events-plugin.com//7.2.3.1//EN
BEGIN:VEVENT
UID:931@breathelosangeles.us
DTSTART;TZID=America/Los_Angeles:20250313T183000
DTEND;TZID=America/Los_Angeles:20250313T210000
DTSTAMP:20250226T165900Z
URL:https://breathelosangeles.us/events/vinyasa-yoga-mantra-bath-kirtan-ve
 gan-dinner-2/
SUMMARY:Vinyasa Yoga + Mantra Bath (Kirtan) + Vegan Dinner
DESCRIPTION:Experience an enriching evening of movement\, sound\, and nouri
 shment with a transformative Vinyasa Yoga session\, followed by a powerful
  Mantra Bath (Kirtan)\, and a delicious vegan dinner to conclude the night
 . This event offers a unique opportunity to reconnect with both body and s
 pirit in a supportive and peaceful environment.\nThe evening begins with a
  flowing Vinyasa Yoga practice\, designed to synchronize breath with movem
 ent\, fostering strength\, flexibility\, and mindfulness. The dynamic sequ
 ence helps to ground and energize participants\, preparing the body for de
 eper relaxation and connection.\nAfter the yoga session\, the energy shift
 s into a sacred Mantra Bath\, featuring the healing power of Kirtan. This 
 practice involves chanting sacred mantras together\, creating a vibrant an
 d meditative space where participants can experience the transformative vi
 brations of sound. The rhythmic chanting of mantras invites a sense of pea
 ce\, clarity\, and spiritual connection.\nTo close the evening\, participa
 nts are invited to enjoy a nourishing vegan dinner\, providing both physic
 al and spiritual sustenance. The meal offers an opportunity to share in co
 mmunity and savor wholesome\, plant-based dishes crafted with love and car
 e.\nThis event is ideal for those seeking to deepen their yoga practice\, 
 connect with others\, and explore the healing benefits of sound and mindfu
 l movement in a supportive\, welcoming space. Whether new to Vinyasa Yoga 
 or seasoned in the practice\, everyone is welcome to join and experience t
 he blissful union of body\, mind\, and spirit.\n\n\nGET TICKETS\n
ATTACH;FMTTYPE=image/jpeg:https://breathelosangeles.us/wp-content/uploads/
 2025/02/Vinyasa-Yoga-Mantra-Bath.avif
CATEGORIES:Food &amp; Drink Events
LOCATION:Studio Om - Conscious Events Lounge\, 2316 1/2 South Union Avenue 
 #1\, Los Angeles\, California\, 90007\, CA\, United States
X-APPLE-STRUCTURED-LOCATION;VALUE=URI;X-ADDRESS=2316 1/2 South Union Avenue
  #1\, Los Angeles\, California\, 90007\, CA\, United States;X-APPLE-RADIUS
 =100;X-TITLE=Studio Om - Conscious Events Lounge:geo:0,0
END:VEVENT
BEGIN:VTIMEZONE
TZID:America/Los_Angeles
X-LIC-LOCATION:America/Los_Angeles
BEGIN:DAYLIGHT
DTSTART:20250309T030000
TZOFFSETFROM:-0800
TZOFFSETTO:-0700
TZNAME:PDT
END:DAYLIGHT
END:VTIMEZONE
END:VCALENDAR