BEGIN:VCALENDAR
VERSION:2.0
PRODID:-//wp-events-plugin.com//7.2.3.1//EN
BEGIN:VEVENT
UID:380@breathelosangeles.us
DTSTART;TZID=America/Los_Angeles:20240815T190000
DTEND;TZID=America/Los_Angeles:20240815T200000
DTSTAMP:20240813T054937Z
URL:https://breathelosangeles.us/events/violet-flame-reiki-soundbath-with-
 nikola/
SUMMARY:Violet Flame Reiki Soundbath with Nikola
DESCRIPTION:Immerse yourself in the transformative energy of the Violet Fla
 me Reiki Soundbath led by Nikola. This profound experience combines the po
 tent healing powers of the Violet Flame with the gentle\, restorative effe
 cts of Reiki and sound therapy.\n\nThe Violet Flame is renowned for its ab
 ility to transmute negativity and transform lower energies into higher\, m
 ore harmonious frequencies. As you enter a state of deep relaxation\, the 
 Violet Flame’s high-frequency energy works to cleanse and rejuvenate you
 r spiritual and emotional state.\n\nGuided by Nikola\, participants will e
 mbark on a serene meditation journey enhanced by the soothing vibrations o
 f crystal singing bowls. This soundbath session creates a harmonious envir
 onment that fosters relaxation\, promotes emotional balance\, and supports
  overall well-being.\n\nThe benefits of this experience are extensive:\n\n
  	Stress Reduction: The combination of Violet Flame energy and Reiki helps
  alleviate stress\, encouraging a peaceful and calm state of mind.\n 	Enha
 nced Sleep: Participants often find improved sleep patterns as the body an
 d mind reach a deeper state of relaxation.\n 	Pain Relief: Reiki’s heali
 ng touch and the sound frequencies aid in relieving physical discomfort an
 d promoting healing.\n 	Boosted Immune System: The holistic approach stren
 gthens the body's natural defenses\, contributing to better health.\n 	Emo
 tional Balance: The session fosters a sense of emotional equilibrium and c
 larity\, enhancing creativity and intuition.\n 	Spiritual Connection: Enga
 ge deeply with your spiritual self\, gaining insight and alignment with yo
 ur higher purpose.\n\nJoin Nikola for this unique soundbath experience whe
 re ancient healing practices meet modern wellness techniques\, guiding you
  toward a more balanced\, rejuvenated\, and connected self.\n\nGET TICKETS
 \n
ATTACH;FMTTYPE=image/jpeg:https://breathelosangeles.us/wp-content/uploads/
 2024/08/Violet-Flame-Reiki-Soundbath-with-Nikola.jpg
CATEGORIES:Mindfulness Events,Things To Do,Wellness Events
LOCATION:Club Joyful\, 2121 Lincoln Boulevard\, Los Angeles\, California\, 
 90291\, CA\, United States
X-APPLE-STRUCTURED-LOCATION;VALUE=URI;X-ADDRESS=2121 Lincoln Boulevard\, Lo
 s Angeles\, California\, 90291\, CA\, United States;X-APPLE-RADIUS=100;X-T
 ITLE=Club Joyful:geo:0,0
END:VEVENT
BEGIN:VTIMEZONE
TZID:America/Los_Angeles
X-LIC-LOCATION:America/Los_Angeles
BEGIN:DAYLIGHT
DTSTART:20240310T030000
TZOFFSETFROM:-0800
TZOFFSETTO:-0700
TZNAME:PDT
END:DAYLIGHT
END:VTIMEZONE
END:VCALENDAR