BEGIN:VCALENDAR
VERSION:2.0
PRODID:-//wp-events-plugin.com//7.2.3.1//EN
BEGIN:VEVENT
UID:719@breathelosangeles.us
DTSTART;TZID=America/Los_Angeles:20241020T090000
DTEND;TZID=America/Los_Angeles:20241020T110000
DTSTAMP:20241015T114150Z
URL:https://breathelosangeles.us/events/vuori-century-city-x-pvolve/
SUMMARY:Vuori Century City x Pvolve
DESCRIPTION:Join Vuori Century City for an invigorating in-store workout on
  October 20\, featuring the transformative Pvolve experience. More than ju
 st a workout\, Pvolve combines functional fitness with dynamic strength tr
 aining to leave you feeling energized\, balanced\, and empowered.\n\nThis 
 session is perfect for those looking to sculpt\, tone\, or simply reconnec
 t with their body in a whole new way. Whether you're seeking a mindful flo
 w or an intense sweat session\, this is an opportunity to challenge yourse
 lf while discovering the joy of movement.\n\nWhat to Expect:\n\n 	A blend 
 of functional exercises and dynamic strength training designed to enhance 
 energy\, balance\, and overall well-being.\n 	A fun and supportive environ
 ment where you can connect with others and focus on becoming the best vers
 ion of yourself.\n 	Professional guidance from expert trainers who will he
 lp you find your flow and achieve your fitness goals.\n\nBe sure to bring 
 a towel and water to stay refreshed during class. Come ready to stretch\, 
 sweat\, and vibe with a community of like-minded individuals!\n\nGET TICKE
 TS\n
ATTACH;FMTTYPE=image/jpeg:https://breathelosangeles.us/wp-content/uploads/
 2024/10/Vuori-Century-City-x-Pvolve.jpg
CATEGORIES:Sports &amp; Fitness Events,Things To Do,Wellness Events
LOCATION:Vuori\, 10250 Santa Monica Boulevard #Suite 1840\, Los Angeles\, C
 alifornia\, 90067 \, CA\, United States
X-APPLE-STRUCTURED-LOCATION;VALUE=URI;X-ADDRESS=10250 Santa Monica Boulevar
 d #Suite 1840\, Los Angeles\, California\, 90067 \, CA\, United States;X-A
 PPLE-RADIUS=100;X-TITLE=Vuori:geo:0,0
END:VEVENT
BEGIN:VTIMEZONE
TZID:America/Los_Angeles
X-LIC-LOCATION:America/Los_Angeles
BEGIN:DAYLIGHT
DTSTART:20240310T030000
TZOFFSETFROM:-0800
TZOFFSETTO:-0700
TZNAME:PDT
END:DAYLIGHT
END:VTIMEZONE
END:VCALENDAR