BEGIN:VCALENDAR
VERSION:2.0
PRODID:-//wp-events-plugin.com//7.2.3.1//EN
BEGIN:VEVENT
UID:967@breathelosangeles.us
DTSTART;TZID=America/Los_Angeles:20251026T100000
DTEND;TZID=America/Los_Angeles:20251026T170000
DTSTAMP:20251007T160518Z
URL:https://breathelosangeles.us/events/wamcon-los-angeles-2025/
SUMMARY:WAMCon Los Angeles 2025
DESCRIPTION:\n\n\nWAMCon is back for another year of immersive experiences 
 featuring top leaders in the industry – including award-winning music pr
 oducers\, recording engineers\, songwriters\, beatmakers\, and record exec
 utives involved in making the music you love the most! 🎧\n\n\n\n\n\n\n\
 nThis year’s workshops and discussions focus on live sound and cover top
 ics like recording techniques\, mixing\, mastering\, vocal production\, so
 ngwriting\, beatmaking\, the music business\, music licensing\, and more. 
 ⁣💡✨ Attendees will engage in hands-on workshops\, mentoring session
 s\, and panels designed to offer insights into both creative and technical
  aspects of audio production\, along with valuable networking opportunitie
 s with industry pros.\n\nWAMCon 2025 will be held on Sunday\, October 26th
 \, at the world-famous @villagestudios in Los Angeles\, CA.\n\nSpeakers:
 \n\n 	K.Flay - Grammy-nominated Artist (Evanescence\, Fitz and the Tantru
 ms\, Walk the Moon\, Imagine Dragons\, etc.)\n 	Maureen Droney - Vice Pre
 sident of the Producers &amp\; Engineers Wing at the Recording Academy/GRA
 MMY Awards\n\n\n 	Leslie Ann Jones - Grammy award-winning Engineer (Skywa
 lker Sound)\n 	Rayna Zemel - Playback Engineer (Dua Lipa\, Lana Del Rey) 
 and Senior Sound Designer (Mattel)\n 	Dr. Leslie Gaston-Bird - Audio Engi
 neer\, Educator and Dolby Atmos Expert\n\n\n 	Eva Reistad - Grammy Award-
 Winning Engineer/Producer (Bad Boys: Ride or Die\, Dune Part 2\, Alien Rom
 ulus and Naked Gun)\n 	Jen Watman - Audio Engineer\, Creative Producer &a
 mp\; Musician (SSL\,Redbull\, Spotify)\n 	Trovarsi - LA-based Music Compo
 ser/Producer\, Live Electronic Music Artist\, Educator\, and streaming You
 Tube Host (Focusrite\, Novation)\n 	Maureen Droney - The Recording Academ
 y\, Vice President of the Producers &amp\; Engineers Wing\n 	Amanda Davis
  - Live Sound Engineer(Janelle Monae\, Tegan &amp\; Sara)\n 	Suzy Shinn 
 - GRAMMY-nominated Music Producer\, Songwriter\, and Recording Engineer (D
 ua Lipa\, Alicia Keys\, Weezer\, Panic! At the Disco\, etc.)\n 	Joanna Fan
 g - Emmy Award-Winning Foley Artist (Sony Interactive)\n 	Anna Arboles -
  Touring FOH and Monitor Engineer (Brittany Howard\, the Alabama Shakes\, 
 Julien Baker\, Empress Of\, JP Saxe)\n 	Lynne Earls - Music Producer\, So
 ngwriter and Sound Engineer (LeAnn Rimes\, kd Lang)\n\nVenue:\nThe Village
  Studios\, housed in a historic 1920s Masonic Temple\, has been at the he
 art of music history for decades. From legendary artists like Fleetwood Ma
 c\, The Rolling Stones\, B.B. King\, and Bob Dylan to current icons like L
 ady Gaga\, Coldplay\, Kesha\, John Mayer\, and Cage the Elephant\, The Vil
 lage has hosted some of the world’s most celebrated recording sessions.\
 n\nThe studio has also been the backdrop for some of the most memorable mo
 vie soundtracks\, including The Bodyguard\, Shawshank Redemption\, A St
 ar Is Born (2018)\, and both the animated and live-action versions of Mu
 lan. The Village’s reputation for producing chart-topping albums and cin
 ematic scores is matched by its ability to evolve with the changing music 
 landscape\, offering an environment where creativity thrives.\n\nBeyond it
 s musical achievements\, The Village has been the site for unique recordin
 gs\, including Jim Morrison’s poetry session in 1970. On his 27th birthd
 ay\, Morrison recorded his iconic work\, An American Prayer\, along with 
 other unreleased compositions. The studio’s walls have seen both artisti
 c legends and cultural moments come to life.\n\nAs CEO Jeff Greenberg desc
 ribes\, “California has been a magnet for creative souls since its birth
 \,” and The Village continues to be a beacon for artists and producers a
 like.\n\nhttps://www.villagestudios.com\n\nWAMCon is made possible by our 
 sponsors:\n\n\n\n\n\n\n\n\n\n\n\n\n\nPricing and Refunds:\nAttendees can r
 eceive refunds up to 7 days before the event start date. Registration is n
 on-transferable and will not be available once the event begins. If you ar
 e a WAM member or Academy student\, please email education@womensaudiomis
 sion.org for your discount code.\n\nImportant Note:\nWomen’s Audio Miss
 ion focuses on increasing the gender balance in audio production and techn
 ology sectors. Less than 5% of the population employed in these sectors ar
 e women or gender-expansive people. Though we will not turn anyone away\, 
 there are limited spots available in our events\, and they often sell out\
 , so we ask that if you are not a woman (transgender or cisgender)\, non-b
 inary\, gender-expansive\, or gender non-conforming\, you reconsider regis
 tering or\, alternatively\, donating the price of a ticket. We thank you f
 or your understanding in advance and for joining us in our mission to adva
 nce women\, girls\, and gender-expansive people in music production and th
 e recording arts.\n\nPhoto Release:\nPlease note that by purchasing a tick
 et for this event\, you are granting Women’s Audio Mission and its staff
 \, volunteers\, professional photographers\, and the media the absolute ri
 ght and permission to take during the event and to use and publish photogr
 aphs of you\, still or moving\, with or without your name\, and to reprodu
 ce same through any media\, for artistic\, promotional\, advertising\, web
  content\, or other commercial and non-commercial purposes\, and you shall
  not be entitled to any monetary compensation of any kind in respect there
 of. We appreciate your support of WAM and our ability to share with our fu
 nders the work that we do to serve women and gender-expansive artists in a
 udio.\n\nVisit our page for more information.\n\n\n
ATTACH;FMTTYPE=image/jpeg:https://breathelosangeles.us/wp-content/uploads/
 2025/10/WAMCon-Los-Angeles-2025.jpg
CATEGORIES:Art,Music,Things To Do
LOCATION:The Village | Village Studios\, 1616 Butler Avenue\, Los Angeles\,
  California\, 90025\, CA\, United States
X-APPLE-STRUCTURED-LOCATION;VALUE=URI;X-ADDRESS=1616 Butler Avenue\, Los An
 geles\, California\, 90025\, CA\, United States;X-APPLE-RADIUS=100;X-TITLE
 =The Village | Village Studios:geo:0,0
END:VEVENT
BEGIN:VTIMEZONE
TZID:America/Los_Angeles
X-LIC-LOCATION:America/Los_Angeles
BEGIN:DAYLIGHT
DTSTART:20250309T030000
TZOFFSETFROM:-0800
TZOFFSETTO:-0700
TZNAME:PDT
END:DAYLIGHT
END:VTIMEZONE
END:VCALENDAR