BEGIN:VCALENDAR
VERSION:2.0
PRODID:-//wp-events-plugin.com//7.2.3.1//EN
BEGIN:VEVENT
UID:20@breathelosangeles.us
DTSTART;TZID=America/Los_Angeles:20240404T170000
DTEND;TZID=America/Los_Angeles:20240404T180000
DTSTAMP:20240323T101426Z
URL:https://breathelosangeles.us/events/westsiders-nami/
SUMMARY:Westsiders NAMI
DESCRIPTION:\n\n\n\n\n\n\n\n\n\n\n\n\n\n\n\n\n\n\n\n\n\n\n\n\nEmbark on a t
 ransformative journey with our mental health group tailored for individual
 s in recovery. This compassionate gathering takes place at SHARE! a dedica
 ted facility committed to providing assistance to those in need. The syner
 gy of our supportive community and the nurturing environment at SHARE! cre
 ates a space where individuals on their recovery journey can find understa
 nding\, connection\, and empowerment. we navigate the path to healing toge
 ther\, fostering resilience and well-being in every step of the way.\n\n\n
 \n\n\n\n\n\n\n\n\n\n\nEvent Information:\n\nEvent Name: Westsiders NAMI\n\
 nEvent Type: Mental health group for people in recovery\n\nDuration: 1 hou
 r\n\nDate and Time: Thursday\, April 4\, 5 - 6 pm PDT\n\nLocation: 6666 Gr
 een Valley Circle\, Culver City\, CA 90230\, United States\n\nAbout this E
 vent: Westsiders NAMI is a compassionate mental health group tailored for 
 individuals in recovery. Hosted at SHARE!\, a facility dedicated to aiding
  those in need\, this event provides a supportive space for mental health 
 discussions and recovery. Join us on Thursday\, April 4th\, from 5 to 6 pm
  PDT\, for an enriching experience aimed at fostering well-being and commu
 nity connection. The group welcomes individuals seeking support and unders
 tanding during their recovery journey.\n\nTicket Information:\n\nAdmission
  is free.\n\nGET TICKETS\n\nFor any inquiries or refund requests\, please 
 contact the organizer.\n\nEventbrite's fee is nonrefundable.\n\nWorkout Se
 ssion Detail: The primary focus of this event is on mental health discussi
 ons and recovery support. While specific workout sessions may not be part 
 of the program\, participants can anticipate engaging activities that cont
 ribute to overall well-being.\n\nEssentials to Bring: Participants are enc
 ouraged to bring personal items that contribute to their comfort during th
 e mental health group session. Consider bringing a notebook\, pen\, or any
  tools that aid personal reflection and engagement in the discussions.\n\n
 Parking Options: Parking is available at the event venue\, 6666 Green Vall
 ey Circle\, Culver City\, CA 90230. For specific details regarding parking
  options\, please contact the organizer closer to the event date.\n\nNote:
  Please check for updates from the organizer or the event platform for any
  additional information or changes.\n\n\n\n\n\n\n\n\n\n\n\n\n
ATTACH;FMTTYPE=image/jpeg:https://breathelosangeles.us/wp-content/uploads/
 2024/03/https___cdn.evbuc_.com_images_686431669_1990337301523_1_original.j
 peg
CATEGORIES:Wellness Events
LOCATION:6666 Green Valley Cir\, 6666 Green Valley Cir  6666 Green Valley C
 ircle Culver City\, CA 90230 United States\, CA\, United States\,  90230\,
  CA\, United States
X-APPLE-STRUCTURED-LOCATION;VALUE=URI;X-ADDRESS=6666 Green Valley Cir  6666
  Green Valley Circle Culver City\, CA 90230 United States\, CA\, United St
 ates\,  90230\, CA\, United States;X-APPLE-RADIUS=100;X-TITLE=6666 Green V
 alley Cir:geo:0,0
END:VEVENT
BEGIN:VTIMEZONE
TZID:America/Los_Angeles
X-LIC-LOCATION:America/Los_Angeles
BEGIN:DAYLIGHT
DTSTART:20240310T030000
TZOFFSETFROM:-0800
TZOFFSETTO:-0700
TZNAME:PDT
END:DAYLIGHT
END:VTIMEZONE
END:VCALENDAR