BEGIN:VCALENDAR
VERSION:2.0
PRODID:-//wp-events-plugin.com//7.2.3.1//EN
BEGIN:VEVENT
UID:56@breathelosangeles.us
DTSTART;TZID=America/Los_Angeles:20240427T090000
DTEND;TZID=America/Los_Angeles:20240427T113000
DTSTAMP:20240323T111828Z
URL:https://breathelosangeles.us/events/win-for-women-2024-wellness-inspir
 ation-networking-mixer-symposium/
SUMMARY:W.I.N. for Women 2024: Wellness Inspiration Networking Mixer & Symp
 osium
DESCRIPTION:\n\n\n\n\n\n\n\n\nUnleash the power of W.I.N. for Women: a day 
 dedicated to Wellness\, Inspiration\, and Networking A transformative Symp
 osium\, where the essence of well-being\, motivation\, and meaningful conn
 ections converge. Elevate your experience\, empower your journey\, and net
 work with like-minded individuals in this exceptional event.\n\nEvent Info
 rmation:\n\nEvent Name: W.I.N. for Women 2024: Wellness-Inspiration-Networ
 king Mixer &amp\; Symposium\n\nHosted by: Conejo 101\n\nFollowers: 25\n\nE
 vents Hosted: 40\n\nDate and Time:\n\nDate: Saturday\, April 27\n\nTime: 9
 :00 AM - 11:30 AM PDT\n\nLocation:\n\nVenue: Oak Park Community Center and
  Gardens\n\nAddress: 1000 Kanan Road\, Oak Park\, CA 91377\, United States
 \n\nTicket Price: Free\n\n&nbsp\;\n\nGET TICKETS\n\nRefund Policy:\n\nCont
 act the organizer to request a refund.\n\nAbout this Event:\n\nDuration: 2
  hours 30 minutes\n\nW.I.N. for Women Day &amp\; Symposium in the Conejo V
 alley\, taking place at the Oak Park Community Center and Gardens on Satur
 day\, April 27\, from 9:00 am to 11:30 am.\n\nExperience a Mega Mixer for 
 Women focusing on Wellness\, Inspiration\, and Networking. The event kicks
  off with a networking coffee break mixer\, followed by a brief presentati
 on\, panel discussions\, and engaging round table conversations.\n\nWorkou
 t Session Detail:\n\nNetworking coffee break mixer\n\nShort presentation\n
 \nPanel discussions\n\nRound table conversations\n\nEssentials to Bring:\n
 \nPositive attitude\n\nBusiness cards for networking\n\nImmerse yourself i
 n a dynamic blend of wellness\, inspiration\, and networking at W.I.N. for
  Women 2024. Join us for a morning filled with connections\, insights\, an
 d empowerment.\n\n\n\n\n\n\n\n\n
ATTACH;FMTTYPE=image/jpeg:https://breathelosangeles.us/wp-content/uploads/
 2024/03/https___cdn.evbuc_.com_images_588555219_189632680353_1_original.jp
 eg
LOCATION:Oak Park Community Center and Gardens\, 1000 Kanan Road Oak Park\,
  CA 91377 United States\, CA \, United States\, 91377 \, CA\, United State
 s
X-APPLE-STRUCTURED-LOCATION;VALUE=URI;X-ADDRESS=1000 Kanan Road Oak Park\, 
 CA 91377 United States\, CA \, United States\, 91377 \, CA\, United States
 ;X-APPLE-RADIUS=100;X-TITLE=Oak Park Community Center and Gardens:geo:0,0
END:VEVENT
BEGIN:VTIMEZONE
TZID:America/Los_Angeles
X-LIC-LOCATION:America/Los_Angeles
BEGIN:DAYLIGHT
DTSTART:20240310T030000
TZOFFSETFROM:-0800
TZOFFSETTO:-0700
TZNAME:PDT
END:DAYLIGHT
END:VTIMEZONE
END:VCALENDAR