BEGIN:VCALENDAR
VERSION:2.0
PRODID:-//wp-events-plugin.com//7.2.3.1//EN
BEGIN:VEVENT
UID:711@breathelosangeles.us
DTSTART;TZID=America/Los_Angeles:20241020T170000
DTEND;TZID=America/Los_Angeles:20241020T190000
DTSTAMP:20241015T063855Z
URL:https://breathelosangeles.us/events/wine-tasting-garden-ramble/
SUMMARY:Wine Tasting Garden Ramble
DESCRIPTION:This seasonal Sunday\, guests are invited to enjoy a delightful
  afternoon at the Wine Tasting Garden Ramble at Arlington Garden in Pasade
 na. This unique fundraiser\, organized in collaboration with West Altadena
  Wine\, promises an enchanting experience as participants explore the gard
 en's intricate paths while savoring exquisite wines.\n\nThe event features
  three tasting stations strategically located throughout the garden's vari
 ous “rooms\,” each offering a selection of four distinct wines. Among 
 the highlights is The Meadow\, a local rosé crafted by the Angeleno Wine 
 Company\, made with grapes grown right in Los Angeles.\n\nTickets for this
  enchanting wine-tasting experience are priced at $50\, which includes the
  wine tasting\, or attendees can choose a $25 tea/lemonade ticket for thos
 e aged 18 and over\, including those who prefer not to indulge in alcohol.
 \n\nParticipants can design their own tasting journey as they wander from 
 station to station\, taking in the garden's stunning fall scenery characte
 rized by lush textures and rich\, romantic colors. Along the way\, they wi
 ll encounter delightful surprises\, including a Mountain of Joy and a spec
 ially curated playlist by Living Earth. Guests will also have the opportun
 ity to learn more about the garden's autumn landscape during an informativ
 e plant walk.\n\nFor those who choose not to partake in wine\, an array of
  herbal teas and other refreshing cold beverages will be available. Additi
 onally\, snack and sandwich boxes from Agnes Restaurant &amp\; Cheesery wi
 ll be offered for purchase\, ensuring everyone can enjoy a bite while soak
 ing in the beautiful surroundings.\n\nDon’t miss this chance to indulge 
 in a lovely afternoon of wine tasting\, community\, and nature at Arlingto
 n Garden—where every step leads to a new discovery!\n\nGET TICKETS\n
ATTACH;FMTTYPE=image/jpeg:https://breathelosangeles.us/wp-content/uploads/
 2024/10/Wine-Tasting-Garden-Ramble.jpg
CATEGORIES:Food &amp; Drink Events,Things To Do
LOCATION:Arlington Garden in Pasadena\, 275 ARLINGTON DR Pasadena\, Los Ang
 eles\, California\, 91105\, CA\, United States
X-APPLE-STRUCTURED-LOCATION;VALUE=URI;X-ADDRESS=275 ARLINGTON DR Pasadena\,
  Los Angeles\, California\, 91105\, CA\, United States;X-APPLE-RADIUS=100;
 X-TITLE=Arlington Garden in Pasadena:geo:0,0
END:VEVENT
BEGIN:VTIMEZONE
TZID:America/Los_Angeles
X-LIC-LOCATION:America/Los_Angeles
BEGIN:DAYLIGHT
DTSTART:20240310T030000
TZOFFSETFROM:-0800
TZOFFSETTO:-0700
TZNAME:PDT
END:DAYLIGHT
END:VTIMEZONE
END:VCALENDAR