BEGIN:VCALENDAR
VERSION:2.0
PRODID:-//wp-events-plugin.com//7.2.3.1//EN
BEGIN:VEVENT
UID:429@breathelosangeles.us
DTSTART;TZID=America/Los_Angeles:20240920T190000
DTEND;TZID=America/Los_Angeles:20240920T220000
DTSTAMP:20240831T072332Z
URL:https://breathelosangeles.us/events/wolfgang-pucks-mid-autumn-festival
 /
SUMMARY:Wolfgang Puck’s Mid-Autumn Festival
DESCRIPTION:Celebrate the Mid-Autumn Festival in style at Merois\, where re
 nowned chef Wolfgang Puck will transform the Pendry’s rooftop into a cul
 inary wonderland. This special event will feature a lineup of some of L.A.
 ’s most acclaimed restaurants\, including Nancy Silverton’s celebrated
  Mozza Group\, the award-winning Pizzeria Sei\, Parisian sensation Mr. T\,
  and local favorites Badmaash and the Lonely Oyster.\n\nThe evening promis
 es not only exceptional cuisine but also vibrant entertainment\, with drag
 on dancers and a live DJ setting the mood for a festive night. For $125\, 
 attendees can enjoy unlimited bites from each restaurant station\, offerin
 g a diverse array of flavors and dishes. While the general admission does 
 not include alcohol\, an additional $50 VIP upgrade provides reserved seat
 ing and two complimentary cocktails.\n\nBoth Silverton and Puck will be sh
 owcasing unique items from their various restaurant ventures\, including s
 ignature dishes from CUT\, Spago\, Chi Spacca\, and more\, ensuring an unf
 orgettable culinary experience. This Mid-Autumn Festival celebration at Me
 rois is a must-attend event for food lovers seeking to indulge in some of 
 the best that Los Angeles has to offer\, all under the stars on a stunning
  rooftop setting.\n\nGET TICKETS\n
ATTACH;FMTTYPE=image/jpeg:https://breathelosangeles.us/wp-content/uploads/
 2024/08/Wolfgang-Pucks-Mid-Autumn-Festival.webp
CATEGORIES:Food &amp; Drink Events,Things To Do,Wellness Events
LOCATION:Merois\, 8430 Sunset Blvd West Hollywood\, Los Angeles\, Californi
 a\, 90069\, CA\, United States
X-APPLE-STRUCTURED-LOCATION;VALUE=URI;X-ADDRESS=8430 Sunset Blvd West Holly
 wood\, Los Angeles\, California\, 90069\, CA\, United States;X-APPLE-RADIU
 S=100;X-TITLE=Merois:geo:0,0
END:VEVENT
BEGIN:VTIMEZONE
TZID:America/Los_Angeles
X-LIC-LOCATION:America/Los_Angeles
BEGIN:DAYLIGHT
DTSTART:20240310T030000
TZOFFSETFROM:-0800
TZOFFSETTO:-0700
TZNAME:PDT
END:DAYLIGHT
END:VTIMEZONE
END:VCALENDAR