BEGIN:VCALENDAR
VERSION:2.0
PRODID:-//wp-events-plugin.com//7.2.3.1//EN
BEGIN:VEVENT
UID:418@breathelosangeles.us
DTSTART;TZID=America/Los_Angeles:20240825T160000
DTEND;TZID=America/Los_Angeles:20240825T203000
DTSTAMP:20240816T112329Z
URL:https://breathelosangeles.us/events/women-heart-and-soul-retreat/
SUMMARY:Women Heart and Soul Retreat
DESCRIPTION:In today’s fast-paced world\, women need a sanctuary—a spac
 e to rest\, heal\, and rediscover their inner peace. Sara Fakhraei invites
  you to a deeply nurturing retreat designed to help you step away from dai
 ly stress\, quiet the overthinking mind\, and embrace the soothing realiza
 tion that "I am okay\, all is well." This intimate gathering\, limited to 
 seven participants\, offers a unique opportunity to rest\, rejuvenate\, an
 d reconnect with your true self.\n\nRetreat Highlights:\n\n 	Soothing Reik
 i Energy Healing: Restore balance and harmonize your body’s energy with 
 gentle\, calming Reiki.\n 	Psychosomatic Healing: Explore the connection b
 etween your mind and body\, releasing stored tension and emotional blockag
 es.\n 	Alchemy Sound Bath: Immerse yourself in healing sound frequencies t
 hat realign your energy and bring deep relaxation.\n 	Guided Meditation: J
 ourney inward with a calming\, centering meditation designed to quiet the 
 mind and nurture the soul.\n 	Breathwork: Engage in transformative breath 
 practices that cleanse\, energize\, and reconnect you with your inner stre
 ngth.\n\nThis Retreat Offers Your Heart and Soul a Nurturing Journey to:\n
 \n 	Cultivate Balance: Harmonize body\, mind\, and spirit\, bringing you b
 ack to a state of equilibrium.\n 	Activate &amp\; Realign Energy: Revitali
 ze your energy centers\, creating space for new beginnings.\n 	Soothe the 
 Anxious Mind: Release anxiety and find peace within the stillness.\n 	Rela
 x the Physical Body: Let go of tension and allow your body to rest deeply.
 \n 	Heal the Inner Child: Address past wounds and embrace the innocence an
 d joy within.\n 	Boost Confidence: Connect with your innate strength and e
 mbody your highest self.\n 	Release Past Burdens: Let go of pain\, fear\, 
 and anger\, making room for love and manifestation.\n\nGuided by breath\, 
 music\, dance\, sound\, and silence\, this retreat will help you reclaim y
 our Divine Feminine Power and cultivate inner peace. Together\, we will el
 evate our vibrations\, dance fearlessly into the depths of our hearts\, an
 d embrace the wild woman within.\n\nIt’s time to remember who you truly 
 are and celebrate your authentic self. Join us on this empowering and insp
 iring journey of self-discovery and love. Let's dance into the essence of 
 our being\, fearless and free\, as we reconnect with our inner Queen.\n\nG
 ET TICKETS\n
ATTACH;FMTTYPE=image/jpeg:https://breathelosangeles.us/wp-content/uploads/
 2024/08/Women-Heart-and-Soul-Retreat.jpg
CATEGORIES:Mindfulness Events,Retreats Events,Things To Do,Wellness Events
LOCATION:92618\, 92618 Irvine\, Los Angeles\, California\, 92618 \, CA\, Un
 ited States
X-APPLE-STRUCTURED-LOCATION;VALUE=URI;X-ADDRESS=92618 Irvine\, Los Angeles\
 , California\, 92618 \, CA\, United States;X-APPLE-RADIUS=100;X-TITLE=9261
 8:geo:0,0
END:VEVENT
BEGIN:VTIMEZONE
TZID:America/Los_Angeles
X-LIC-LOCATION:America/Los_Angeles
BEGIN:DAYLIGHT
DTSTART:20240310T030000
TZOFFSETFROM:-0800
TZOFFSETTO:-0700
TZNAME:PDT
END:DAYLIGHT
END:VTIMEZONE
END:VCALENDAR