BEGIN:VCALENDAR
VERSION:2.0
PRODID:-//wp-events-plugin.com//7.2.3.1//EN
BEGIN:VEVENT
UID:184@breathelosangeles.us
DTSTART;TZID=America/Los_Angeles:20240417T120000
DTEND;TZID=America/Los_Angeles:20240417T130000
DTSTAMP:20240404T145348Z
URL:https://breathelosangeles.us/events/womens-health-series/
SUMMARY:Women's Health Series
DESCRIPTION:Immerse yourself in a transformative journey as we delve into a
  series of workshops and discussions meticulously crafted to address pivot
 al women's health topics. From nurturing nutrition to understanding the in
 tricacies of monthly cycles and navigating the nuances of anxiety\, an enr
 iching experience tailored to empower and enlighten.\n\nEvent Information:
 \n\nEvent Name: Women's Health Series\n\nHost: Anahata Yoga and Wellness/T
 ina Makris\n\nDate and Time: Wednesday\, April 17\, 12:00 - 1:00 pm PDT\n\
 nLocation: Yoga Sol Studio\, 18306 Imperial Highway\, Yorba Linda\, CA 928
 86\, United States\n\nAbout this Event: Welcome to the Women's Health Seri
 es! Join us for a six-week series of workshops and discussions focused on 
 women's health topics\, including nutrition\, monthly cycles\, and anxiety
 . Led by an expert in women's health\, Bela Patel\, this series aims to em
 power women to improve their overall health and well-being. Whether you're
  seeking to enhance your physical health or address mental struggles like 
 insomnia or anxiety\, this event is tailored for you.\n\nTicket Informatio
 n:\n\n1 x General Admission: $149.00\n\nSubtotal: $149.00\n\nFees: $11.83\
 n\nDelivery: 1 x eTicket: $0.00\n\nTotal: $160.83\n\nGET TICKETS\n\nWorkou
 t Session Detail: This one-hour session will include workshops and discuss
 ions aimed at addressing various aspects of women's health\, providing val
 uable insights\, and empowering attendees with practical knowledge.\n\nEss
 ential for Participants: Attendees are encouraged to bring a notebook and 
 pen to jot down notes during the workshops and discussions.\n\nParking Opt
 ion: Details about parking options are not provided in the event descripti
 on.\n\nRefund Policy: Contact the organizer to request a refund. Eventbrit
 e's fee is nonrefundable.\n\nAbout the Host\, Anahata Yoga and Wellness/Ti
 na Makris: Anahata Yoga and Wellness\, led by Tina Makris\, is dedicated t
 o promoting holistic well-being through yoga and wellness practices. With 
 numerous events hosted and a focus on empowering individuals\, Anahata Yog
 a and Wellness aims to create supportive communities focused on health and
  wellness.
ATTACH;FMTTYPE=image/jpeg:https://breathelosangeles.us/wp-content/uploads/
 2024/04/WOMEN.jpg
CATEGORIES:Wellness Events
LOCATION:Yoga Sol Studio\,   18306 Imperial Highway \, Yorba Linda\, \, Uni
 ted States\, 92886 \, CA \, United States
X-APPLE-STRUCTURED-LOCATION;VALUE=URI;X-ADDRESS=  18306 Imperial Highway \,
  Yorba Linda\, \, United States\, 92886 \, CA \, United States;X-APPLE-RAD
 IUS=100;X-TITLE=Yoga Sol Studio:geo:0,0
END:VEVENT
BEGIN:VTIMEZONE
TZID:America/Los_Angeles
X-LIC-LOCATION:America/Los_Angeles
BEGIN:DAYLIGHT
DTSTART:20240310T030000
TZOFFSETFROM:-0800
TZOFFSETTO:-0700
TZNAME:PDT
END:DAYLIGHT
END:VTIMEZONE
END:VCALENDAR