BEGIN:VCALENDAR
VERSION:2.0
PRODID:-//wp-events-plugin.com//7.2.3.1//EN
BEGIN:VEVENT
UID:791@breathelosangeles.us
DTSTART;TZID=America/Los_Angeles:20241101T160000
DTEND;TZID=America/Los_Angeles:20241101T170000
DTSTAMP:20241021T110830Z
URL:https://breathelosangeles.us/events/womens-self-defense-classes/
SUMMARY:Women's Self-Defense Classes!
DESCRIPTION:\n\n\n\n\nEnroll in one of the most unique and transformative w
 omen's self-defense classes available! These classes are not just about le
 arning how to defend yourself—they offer a complete mindset shift that w
 ill leave you feeling confident\, empowered\, and ready to take on any cha
 llenge.\n\nEach session provides a dynamic experience\, helping you build 
 both physical and mental strength. You’ll develop the skills to protect 
 yourself while gaining a deep sense of self-assurance. In addition to prac
 tical self-defense techniques\, you’ll be guided through a powerful ment
 al transformation that helps you say goodbye to fear\, replacing it with u
 nshakable confidence.\nWhat to Expect:\n\n 	Confidence-Building Mindset: L
 earn to cultivate a strong\, fearless mindset that boosts your self-assura
 nce in every area of life.\n 	Practical Self-Defense Techniques: Gain hand
 s-on experience with techniques that are easy to learn and effective in re
 al-life situations.\n 	Challenging Cardio Workout: Each class includes a h
 igh-energy workout to help you burn calories while staying fit and strong.
 \n 	Ongoing Momentum: We provide strategies to keep your progress moving f
 orward\, ensuring that you continuously grow in strength and confidence.\n
 \nThese classes are designed to offer an empowering experience every Frida
 y from 4 p.m. to 5 p.m. By the end of each class\, you’ll feel energized
 \, confident\, and motivated\, leaving you wanting more of this world-clas
 s experience.\n\nJoin us every week and step into your power! This is not 
 just about self-defense—it’s about transforming your mindset\, body\, 
 and spirit.\n\n\n\n\n\n\n\n\n\n&nbsp\;\n\n\n\n4o\n\nGET TICKETS\n\n\n\n\n
ATTACH;FMTTYPE=image/jpeg:https://breathelosangeles.us/wp-content/uploads/
 2024/10/Women.jpeg
CATEGORIES:Wellness Events
LOCATION:Rancho San Jose Park\, 666 West San Jose Avenue\, Claremont\, Cali
 fornia\, 91711 \, CA\, United States
X-APPLE-STRUCTURED-LOCATION;VALUE=URI;X-ADDRESS=666 West San Jose Avenue\, 
 Claremont\, California\, 91711 \, CA\, United States;X-APPLE-RADIUS=100;X-
 TITLE=Rancho San Jose Park:geo:0,0
END:VEVENT
BEGIN:VTIMEZONE
TZID:America/Los_Angeles
X-LIC-LOCATION:America/Los_Angeles
BEGIN:DAYLIGHT
DTSTART:20240310T030000
TZOFFSETFROM:-0800
TZOFFSETTO:-0700
TZNAME:PDT
END:DAYLIGHT
END:VTIMEZONE
END:VCALENDAR