BEGIN:VCALENDAR
VERSION:2.0
PRODID:-//wp-events-plugin.com//7.2.3.1//EN
BEGIN:VEVENT
UID:71@breathelosangeles.us
DTSTART;TZID=America/Los_Angeles:20240324T093000
DTEND;TZID=America/Los_Angeles:20240324T160000
DTSTAMP:20240314T205213Z
URL:https://breathelosangeles.us/events/workshop-with-dasha-saian-marchese
 /
SUMMARY:Hands-on training workshop with Dasha Saian Marchese
DESCRIPTION:\nElevate Your Esthetics Career with Saian Skincare's Mastercla
 ss!\nCalling all estheticians! This exclusive opportunity from Saian Skinc
 are offers a full day of hands-on training led by seasoned expert Dasha Sa
 ian Marchese. Sharpen your skills and learn cutting-edge techniques to ele
 vate your practice.\nHere's what awaits you in Tustin\, CA:\n\n\n 	\nMaste
 r the Art of Facial Treatments: Receive in-depth training on a variety of 
 facial treatments\, including:\n\n\n 	\nCleansing Techniques: Master a sim
 ple yet effective manual cleansing routine and learn about enzyme mask app
 lication.\n\n 	\nFacial Massage: Discover a toning and lifting facial mass
 age technique that reduces the appearance of fine lines and wrinkles\, lea
 ving your clients looking years younger.\n\n 	\nBuccal Massage: Expand you
 r skillset with this unique intra-oral facial massage technique. Revive th
 e nasolabial area and increase circulation for a refreshed appearance.\n\n
  	\nMicrocurrent Face-Lift &amp\; Collagen Infusion Therapy: Unlock the se
 crets of these advanced techniques and watch your clients' skin transform.
 \n\n\n\n 	\nTool Mastery: Gain confidence in using the latest professional
  tools: LED light therapy\, ice globes\, facial cupping\, skin scrubbers\,
  microcurrent devices\, and high-frequency machines.\n\n 	\nProduct Knowle
 dge Powerhouse: Deepen your understanding of active ingredients through a 
 dedicated product knowledge seminar. Learn how each ingredient works to de
 liver optimal results.\n\n 	\nNetwork &amp\; Learn: Enjoy a light breakfas
 t and lunch while connecting with fellow estheticians and practicing your 
 newly acquired skills.\n\n 	\nValuable Resources: Take home detailed works
 heets filled with valuable information for future reference.\n\n\nThis lim
 ited-spot workshop includes a bonus $200 product bundle! Don't miss this c
 hance to elevate your esthetics career with Saian Skincare's Masterclass.\
 nRegister today and embark on a journey of professional growth!\n\n\n\n\nB
 UY TICKETS\n\n
ATTACH;FMTTYPE=image/jpeg:https://breathelosangeles.us/wp-content/uploads/
 2024/03/https___cdn.evbuc_.com_images_552284139_33281387259_1_original.jpe
 g
CATEGORIES:Wellness Events
LOCATION:Saian Skincare\, 3002 Dow Ave Suite 208 \, Tustin\, California\,  
 92780\, United States
X-APPLE-STRUCTURED-LOCATION;VALUE=URI;X-ADDRESS=3002 Dow Ave Suite 208 \, T
 ustin\, California\,  92780\, United States;X-APPLE-RADIUS=100;X-TITLE=Sai
 an Skincare:geo:0,0
END:VEVENT
BEGIN:VTIMEZONE
TZID:America/Los_Angeles
X-LIC-LOCATION:America/Los_Angeles
BEGIN:DAYLIGHT
DTSTART:20240310T030000
TZOFFSETFROM:-0800
TZOFFSETTO:-0700
TZNAME:PDT
END:DAYLIGHT
END:VTIMEZONE
END:VCALENDAR