BEGIN:VCALENDAR
VERSION:2.0
PRODID:-//wp-events-plugin.com//7.2.3.1//EN
BEGIN:VEVENT
UID:913@breathelosangeles.us
DTSTART;TZID=America/Los_Angeles:20250312T173000
DTEND;TZID=America/Los_Angeles:20250312T183000
DTSTAMP:20250218T122953Z
URL:https://breathelosangeles.us/events/yoga-at-the-enclave/
SUMMARY:Yoga at The Enclave!
DESCRIPTION:Join Melanie McGrath for a rejuvenating yoga session at The Enc
 lave\, where you can unwind\, stretch\, and flow. This class is designed t
 o accommodate practitioners of all levels\, whether you're an experienced 
 yogi or just starting your journey. Melanie will guide you through each mo
 vement in a welcoming\, supportive environment\, helping you find your flo
 w and achieve relaxation.\nClass Details:\n\n\n 	When: Every Wednesday\, f
 rom 5:30 PM to 6:30 PM\n 	Where: The Enclave\, 980 W 190th St\, Torrance\,
  CA\n 	Who: Open to beginners and seasoned yoga enthusiasts alike\n\nSpeci
 al Perk: After class\, enjoy a 10% discount on delicious Berry Brand Acai 
 Bowls\, exclusively for yoga participants. It's the perfect way to nourish
  your body post-practice!\nWhat to Bring: While mats and water will be pro
 vided\, participants are encouraged to bring their own mats if preferred. 
 All you need is your positive energy and an eagerness to relax and rejuven
 ate.\nReserve your spot now and make Wednesdays your favorite day of the w
 eek with a session designed to balance your mind and body.\n\n\nGET TICKET
 S\n
ATTACH;FMTTYPE=image/jpeg:https://breathelosangeles.us/wp-content/uploads/
 2025/02/Yoga-at-The-Enclave.avif
CATEGORIES:Yoga Events
LOCATION:980 W 190th St\, 980 West 190th Street Torrance\, Los Angeles\, Ca
 lifornia\, 90502\, CA\, United States
X-APPLE-STRUCTURED-LOCATION;VALUE=URI;X-ADDRESS=980 West 190th Street Torra
 nce\, Los Angeles\, California\, 90502\, CA\, United States;X-APPLE-RADIUS
 =100;X-TITLE=980 W 190th St:geo:0,0
END:VEVENT
BEGIN:VTIMEZONE
TZID:America/Los_Angeles
X-LIC-LOCATION:America/Los_Angeles
BEGIN:DAYLIGHT
DTSTART:20250309T030000
TZOFFSETFROM:-0800
TZOFFSETTO:-0700
TZNAME:PDT
END:DAYLIGHT
END:VTIMEZONE
END:VCALENDAR