BEGIN:VCALENDAR
VERSION:2.0
PRODID:-//wp-events-plugin.com//7.2.3.1//EN
BEGIN:VEVENT
UID:932@breathelosangeles.us
DTSTART;TZID=America/Los_Angeles:20250316T110000
DTEND;TZID=America/Los_Angeles:20250316T120000
DTSTAMP:20250226T170549Z
URL:https://breathelosangeles.us/events/yoga-de-la-sol/
SUMMARY:YOGA DE LA SOL
DESCRIPTION:Yoga De La Sol offers a unique and invigorating rooftop yoga ex
 perience every Sunday at 11 AM at Citizen Public Market in Culver City. Fo
 unded and led by Esli\, a passionate local yoga instructor\, this event se
 amlessly blends dynamic Vinyasa flow\, mindful meditation\, and energizing
  core workouts to create the perfect balance of strength and relaxation.\n
 Designed as a community-focused event\, Yoga De La Sol invites participant
 s to move\, reflect\, and connect—not only with themselves but also with
  others in a supportive and inclusive environment. After the session\, the
  group heads downstairs to explore the Citizen Market\, where attendees ca
 n mingle\, meet new friends\, and enjoy delicious food from a variety of l
 ocal vendors.\nMore than just a workout\, Yoga De La Sol is an immersive e
 xperience that integrates movement\, mindfulness\, and music\, creating a 
 vibrant atmosphere for growth and connection. As the community continues t
 o grow\, Yoga De La Sol is becoming not just a class\, but a movement that
  fosters inclusivity\, connection\, and empowerment. Everyone is encourage
 d to join and feel a sense of belonging within this expanding community.\n
 To stay updated with the latest schedules and events\, follow Yoga De La S
 ol on Instagram at @yogadelasol and be part of this transformative journey
 .\n\n\nGET TICKETS\n
ATTACH;FMTTYPE=image/jpeg:https://breathelosangeles.us/wp-content/uploads/
 2025/02/YOGA-DE-LA-SOL.avif
CATEGORIES:Yoga Events
LOCATION:Citizen Public Market\, Culver City\, Culver City\, California\, 9
 0232\, CA\, United States
X-APPLE-STRUCTURED-LOCATION;VALUE=URI;X-ADDRESS=Culver City\, Culver City\,
  California\, 90232\, CA\, United States;X-APPLE-RADIUS=100;X-TITLE=Citize
 n Public Market:geo:0,0
END:VEVENT
BEGIN:VTIMEZONE
TZID:America/Los_Angeles
X-LIC-LOCATION:America/Los_Angeles
BEGIN:DAYLIGHT
DTSTART:20250309T030000
TZOFFSETFROM:-0800
TZOFFSETTO:-0700
TZNAME:PDT
END:DAYLIGHT
END:VTIMEZONE
END:VCALENDAR