BEGIN:VCALENDAR
VERSION:2.0
PRODID:-//wp-events-plugin.com//7.2.3.1//EN
BEGIN:VEVENT
UID:355@breathelosangeles.us
DTSTART;TZID=America/Los_Angeles:20240713T100000
DTEND;TZID=America/Los_Angeles:20240713T110000
DTSTAMP:20240630T063102Z
URL:https://breathelosangeles.us/events/yoga-for-the-beyhive-queen-bey-cha
 kra-flow/
SUMMARY:Yoga for the Beyhive: Queen Bey Chakra Flow
DESCRIPTION:Led by experienced yoga instructors\, this session is designed 
 to blend the powerful flow of vinyasa yoga with the uplifting beats of Bey
 oncé's greatest hits. Whether you're a dedicated Beyoncé fan or simply l
 ooking to explore a new dimension of yoga\, all levels of experience are w
 elcome to participate.\n\nWhat to Expect:\n\nPrepare to sweat\, stretch\, 
 and flow as you move through sequences that harmonize physical postures wi
 th the rhythmic pulse of Beyoncé's music. Each movement aims to align and
  balance your chakras\, enhancing both physical flexibility and mental cla
 rity.\n\nWhy Attend:\n\nYoga for the Beyhive: Queen Bey Chakra Flow offers
  more than just a yoga session—it's a celebration of music\, movement\, 
 and community. Bring your friends\, grab your yoga mat\, and join this upl
 ifting experience where body\, mind\, and spirit come together in harmony.
 \n\nDon't Miss Out:\n\nSecure your spot for Yoga for the Beyhive: Queen Be
 y Chakra Flow and discover a refreshing way to elevate your yoga practice.
  Whether you're seeking to energize your body or simply enjoy a morning of
  music-infused yoga\, this event promises to be an exhilarating experience
 . Embrace the opportunity to connect with like-minded individuals and cele
 brate the transformative power of yoga with a Beyoncé twist.\n\nGET TICKE
 TS\n
ATTACH;FMTTYPE=image/jpeg:https://breathelosangeles.us/wp-content/uploads/
 2024/06/Yoga-for-the-Beyhive-Queen-Bey-Chakra-Flow.jpg
CATEGORIES:Mindfulness Events,Wellness Events
LOCATION:Club Joyful\, 2121 Lincoln Boulevard\, Los Angeles\, California\, 
 90291\, CA\, United States
X-APPLE-STRUCTURED-LOCATION;VALUE=URI;X-ADDRESS=2121 Lincoln Boulevard\, Lo
 s Angeles\, California\, 90291\, CA\, United States;X-APPLE-RADIUS=100;X-T
 ITLE=Club Joyful:geo:0,0
END:VEVENT
BEGIN:VTIMEZONE
TZID:America/Los_Angeles
X-LIC-LOCATION:America/Los_Angeles
BEGIN:DAYLIGHT
DTSTART:20240310T030000
TZOFFSETFROM:-0800
TZOFFSETTO:-0700
TZNAME:PDT
END:DAYLIGHT
END:VTIMEZONE
END:VCALENDAR