BEGIN:VCALENDAR
VERSION:2.0
PRODID:-//wp-events-plugin.com//7.2.3.1//EN
BEGIN:VEVENT
UID:384@breathelosangeles.us
DTSTART;TZID=America/Los_Angeles:20240820T160000
DTEND;TZID=America/Los_Angeles:20240820T170000
DTSTAMP:20240813T061844Z
URL:https://breathelosangeles.us/events/yoga-kids/
SUMMARY:Yoga Kids
DESCRIPTION:Yoga Kids offers a delightful and dynamic introduction to yoga 
 for children in a vibrant and interactive setting. This program invites yo
 ung learners to embark on a journey of movement\, mindfulness\, and fun th
 rough uniquely designed sessions that blend creativity with physical activ
 ity.\n\nWhat to Expect:\n\n 	Imaginative Storytelling: Each session is cra
 fted around engaging stories that captivate children's imaginations and in
 tegrate yoga poses seamlessly into the narrative. This approach makes yoga
  an adventure\, sparking enthusiasm and curiosity.\n 	Creative Yoga Poses:
  Kids will explore a variety of playful poses that promote physical streng
 th\, flexibility\, and balance. These poses are presented in a way that is
  both enjoyable and accessible\, encouraging kids to move with confidence.
 \n 	Calming Breathing Exercises: The program includes gentle breathing tec
 hniques that help children learn how to focus their minds and manage their
  emotions. These exercises support relaxation and mindfulness\, contributi
 ng to overall well-being.\n\nBenefits for Young Yogis:\n\n 	Enhanced Physi
 cal Fitness: Through regular practice\, children will develop greater stre
 ngth\, flexibility\, and coordination. Yoga helps improve their physical a
 bilities while also promoting a healthy lifestyle.\n 	Mental and Emotional
  Growth: By incorporating mindfulness practices\, Yoga Kids supports emoti
 onal resilience and mental clarity. Kids learn to navigate their feelings 
 and enhance their self-awareness.\n 	Fun and Engagement: The blend of stor
 ytelling\, movement\, and relaxation ensures that each session is not only
  educational but also entertaining. Children are encouraged to express the
 mselves and enjoy the process of learning yoga.\n\nYoga Kids is ideal for 
 children eager to discover the joy of yoga while building a strong foundat
 ion for both physical and emotional growth. Join us and watch your child t
 hrive in a nurturing and playful environment!\n\nGET TICKETS\n
ATTACH;FMTTYPE=image/jpeg:https://breathelosangeles.us/wp-content/uploads/
 2024/08/Yoga-Kids.jpg
CATEGORIES:Mindfulness Events,Things To Do,Wellness Events,Yoga Events
LOCATION:Club Joyful\, 2121 Lincoln Boulevard\, Los Angeles\, California\, 
 90291\, CA\, United States
X-APPLE-STRUCTURED-LOCATION;VALUE=URI;X-ADDRESS=2121 Lincoln Boulevard\, Lo
 s Angeles\, California\, 90291\, CA\, United States;X-APPLE-RADIUS=100;X-T
 ITLE=Club Joyful:geo:0,0
END:VEVENT
BEGIN:VTIMEZONE
TZID:America/Los_Angeles
X-LIC-LOCATION:America/Los_Angeles
BEGIN:DAYLIGHT
DTSTART:20240310T030000
TZOFFSETFROM:-0800
TZOFFSETTO:-0700
TZNAME:PDT
END:DAYLIGHT
END:VTIMEZONE
END:VCALENDAR