BEGIN:VCALENDAR
VERSION:2.0
PRODID:-//wp-events-plugin.com//7.2.3.1//EN
BEGIN:VEVENT
UID:326@breathelosangeles.us
DTSTART;TZID=America/Los_Angeles:20240721T090000
DTEND;TZID=America/Los_Angeles:20240721T120000
DTSTAMP:20240629T161205Z
URL:https://breathelosangeles.us/events/yoga-mimosa-brunch-on-the-rooftop/
SUMMARY:Yoga + Mimosa Brunch on the Rooftop
DESCRIPTION:Experience a revitalizing morning at the Yoga + Mimosa Brunch\,
  hosted on the rooftop of the AC Hotel Beverly Hills. This event offers a 
 unique opportunity to start your day with an invigorating yoga session set
  against the stunning backdrop of the Hollywood Hills and West Hollywood.\
 n\nEvent Highlights:\n\n 	Morning Yoga Session: Begin your day with a refr
 eshing yoga class designed to awaken your body and mind. Suitable for all 
 levels\, this session ensures a balanced and energizing start to your week
 end.\n 	Scenic Views: Enjoy the breathtaking views from the rooftop\, enha
 ncing your yoga practice with the serene beauty of the surrounding landsca
 pe.\n 	Delicious Brunch: After yoga\, indulge in a delightful brunch featu
 ring a variety of mouthwatering dishes.\n 	Bottomless Mimosas: Complement 
 your meal with bottomless mimosas\, adding a touch of luxury and relaxatio
 n to your brunch experience.\n 	Live DJ: Groove to chill music provided by
  a live DJ\, creating a vibrant and uplifting atmosphere throughout the ev
 ent.\n\nWhy Attend Yoga + Mimosa Brunch?\n\n 	Rejuvenate and Recharge: Thi
 s event is the perfect way to unwind and rejuvenate\, combining physical a
 ctivity\, delicious food\, and a relaxing ambiance.\n 	Connect and Sociali
 ze: Meet and mingle with fellow yoga enthusiasts and brunch lovers\, foste
 ring new friendships and connections in a welcoming environment.\n 	Exclus
 ive Experience: Enjoy the unique setting of the AC Hotel Beverly Hills roo
 ftop\, offering an exclusive and elevated experience that sets this event 
 apart.\n\nWho Should Attend?\n\nYoga + Mimosa Brunch is ideal for anyone l
 ooking to enhance their weekend with a blend of wellness and leisure. Whet
 her you're a local resident or visiting the area\, this event welcomes all
 \, regardless of yoga experience or hotel guest status.\n\nJoin Us:\n\nEmb
 race the perfect combination of yoga\, brunch\, and stunning views at Yoga
  + Mimosa Brunch on the rooftop. Reserve your spot in advance to ensure yo
 u don't miss out on this unforgettable morning of relaxation and enjoyment
 .\n\nDon't miss this chance to elevate your weekend routine. Book your pla
 ce today and treat yourself to a rejuvenating and indulgent morning at the
  AC Hotel Beverly Hills.\n\nGET TICKETS\n
ATTACH;FMTTYPE=image/jpeg:https://breathelosangeles.us/wp-content/uploads/
 2024/06/Yoga-Mimosa-Brunch-on-the-Rooftop.jpg
CATEGORIES:Food &amp; Drink Events,Mindfulness Events,Things To
 Do,Wellness Events,Yoga Events
LOCATION:AC Hotel by Marriott Beverly Hills\, 6399 Wilshire Boulevard\, Los
  Angeles\, California\, 90048\, CA\, United States
X-APPLE-STRUCTURED-LOCATION;VALUE=URI;X-ADDRESS=6399 Wilshire Boulevard\, L
 os Angeles\, California\, 90048\, CA\, United States;X-APPLE-RADIUS=100;X-
 TITLE=AC Hotel by Marriott Beverly Hills:geo:0,0
END:VEVENT
BEGIN:VTIMEZONE
TZID:America/Los_Angeles
X-LIC-LOCATION:America/Los_Angeles
BEGIN:DAYLIGHT
DTSTART:20240310T030000
TZOFFSETFROM:-0800
TZOFFSETTO:-0700
TZNAME:PDT
END:DAYLIGHT
END:VTIMEZONE
END:VCALENDAR