BEGIN:VCALENDAR
VERSION:2.0
PRODID:-//wp-events-plugin.com//7.2.3.1//EN
BEGIN:VEVENT
UID:186@breathelosangeles.us
DTSTART;TZID=America/Los_Angeles:20240428T093000
DTEND;TZID=America/Los_Angeles:20240428T120000
DTSTAMP:20240404T145637Z
URL:https://breathelosangeles.us/events/yoga-paint-sip/
SUMMARY:Yoga Paint & Sip
DESCRIPTION:\n\n\n\n\n\n\n\n\n\n\n\n\nExperience an inclusive yoga class su
 itable for all levels\, accompanied by a soothing mini sound bath. Followi
 ng the session\, unleash your creativity as you paint your choice of pre-m
 ade pottery. Indulge in delicious brunch snacks and sip on refreshing mimo
 sas to enhance your experience.\n\nEvent Information:\n\nEvent Name: Yoga 
 Paint &amp\; Sip\n\nDate and Time: Sunday\, April 28\, 9:30 AM - 12:00 PM 
 PDT.\n\nLocation: Kitsch Studios\, 111 East Commonwealth Avenue\, Fullerto
 n\, CA 92832\, United States\n\nTicket Price:\n\nGeneral Admission: $75.00
 \n\nFees: $6.88\n\nTotal: $81.88\n\nGET TICKETS\n\nAbout this Event: Embar
 k on a delightful journey of self-expression and relaxation with Yoga Pain
 t &amp\; Sip\, hosted by Kayla Bennett. This unique event offers a 45-minu
 te all-level yoga class followed by a 15-minute sound bath. Afterward\, in
 dulge in painting your choice of pre-made pottery while enjoying brunch sn
 acks and mimosas.\n\nWorkout Session Detail:\n\nDuration: 2 hours 30 minut
 es\n\nYoga Class: 45 minutes\n\nSound Bath: 15 minutes.\n\nEssentials to B
 ring:\n\nYoga mat\n\nFriend to share the experience.\n\nParking Option: Av
 ailable at Kitsch Studios.\n\nRefund Policy: Contact the organizer to requ
 est a refund. Eventbrite's fee is nonrefundable.\n\nWhat to Expect:\n\nEnj
 oy a 45-minute all-level yoga class followed by a 15-minute sound bath led
  by Kayla Bennett.\n\nChoose a piece of ceramic to paint after the yoga cl
 ass.\n\nPaint your ceramic while enjoying brunch snacks and mimosas.\n\nKi
 tsch Studios will glaze your piece and notify you when it's ready for pick
 up.\n\nWhat Your Ticket Includes:\n\nYoga class + sound bath\n\n$25 cerami
 c credit\n\nPaint\n\nBrunch snacks.\n\nMimosas\n\nIndulge in this unique b
 lend of yoga\, creativity\, and relaxation. Bring your yoga mat and a frie
 nd to share in this memorable experience!\n\n\n\n\n\n\n\n\n\n\n\n\n
ATTACH;FMTTYPE=image/jpeg:https://breathelosangeles.us/wp-content/uploads/
 2024/04/https___cdn.evbuc_.com_images_705882389_1656026221333_1_original.j
 peg
LOCATION:Kitsch Studios\, 111 East Commonwealth Avenue Fullerton\, CA 92832
  United States\, CA\, United States\, 92832 \, CA \, United States
X-APPLE-STRUCTURED-LOCATION;VALUE=URI;X-ADDRESS=111 East Commonwealth Avenu
 e Fullerton\, CA 92832 United States\, CA\, United States\, 92832 \, CA \,
  United States;X-APPLE-RADIUS=100;X-TITLE=Kitsch Studios:geo:0,0
END:VEVENT
BEGIN:VTIMEZONE
TZID:America/Los_Angeles
X-LIC-LOCATION:America/Los_Angeles
BEGIN:DAYLIGHT
DTSTART:20240310T030000
TZOFFSETFROM:-0800
TZOFFSETTO:-0700
TZNAME:PDT
END:DAYLIGHT
END:VTIMEZONE
END:VCALENDAR