BEGIN:VCALENDAR
VERSION:2.0
PRODID:-//wp-events-plugin.com//7.2.3.1//EN
BEGIN:VEVENT
UID:414@breathelosangeles.us
DTSTART;TZID=America/Los_Angeles:20240826T183000
DTEND;TZID=America/Los_Angeles:20240826T200000
DTSTAMP:20240816T045357Z
URL:https://breathelosangeles.us/events/yoga-w-jazzy/
SUMMARY:Yoga w/ Jazzy
DESCRIPTION:Join Yoga with Jazzy for a rejuvenating yoga experience designe
 d for practitioners of all levels. Whether you're a seasoned yogi or just 
 beginning your journey\, these free sessions offer the perfect opportunity
  to unwind\, stretch\, and connect with your body in a welcoming environme
 nt.\n\nSession Details:\n\n 	Arrival Time: 6:30 PM - 7:00 PM\n 	Class Dura
 tion: 7:00 PM - 8:00 PM (Please note\, the class may extend slightly\, end
 ing around 8:30 PM)\n\nWhat to Bring:\n\n 	Your own yoga mat\n\nCome early
  to settle in and prepare for an hour of mindful movement and relaxation. 
 Jazzy's guidance will help you flow through the poses with ease\, making t
 his an enriching experience for all participants. Embrace the chance to ex
 plore yoga at your own pace\, in a supportive community setting. See you o
 n the mat!\n\nGET TICKETS\n
ATTACH;FMTTYPE=image/jpeg:https://breathelosangeles.us/wp-content/uploads/
 2024/08/Yoga-wJazzy.jpg
CATEGORIES:Mindfulness Events,Things To Do,Wellness Events,Yoga Events
LOCATION:2337 W Whittier Blvd\, 2337 West Whittier Boulevard Montebello\, L
 os Angeles\, California\, 90640\, CA\, United States
X-APPLE-STRUCTURED-LOCATION;VALUE=URI;X-ADDRESS=2337 West Whittier Boulevar
 d Montebello\, Los Angeles\, California\, 90640\, CA\, United States;X-APP
 LE-RADIUS=100;X-TITLE=2337 W Whittier Blvd:geo:0,0
END:VEVENT
BEGIN:VTIMEZONE
TZID:America/Los_Angeles
X-LIC-LOCATION:America/Los_Angeles
BEGIN:DAYLIGHT
DTSTART:20240310T030000
TZOFFSETFROM:-0800
TZOFFSETTO:-0700
TZNAME:PDT
END:DAYLIGHT
END:VTIMEZONE
END:VCALENDAR