BEGIN:VCALENDAR
VERSION:2.0
PRODID:-//wp-events-plugin.com//7.2.3.1//EN
BEGIN:VEVENT
UID:241@breathelosangeles.us
DTSTART;TZID=America/Los_Angeles:20240504T100000
DTEND;TZID=America/Los_Angeles:20240504T130000
DTSTAMP:20240417T132214Z
URL:https://breathelosangeles.us/events/youth-family-health-expo/
SUMMARY:Youth & Family Health Expo
DESCRIPTION:\nEmpowering Families: Kiwanis Club's Youth &amp\; Family Healt
 h Expo!\nCalling all Santa Monica parents! Join the Kiwanis Club's inaugur
 al Youth &amp\; Family Health Expo for a day dedicated to supporting your 
 children's well-being.\nNavigating the Journey Together:\nThis event equip
 s families with the knowledge and tools to navigate the healthcare system 
 and advocate for their children's physical\, mental\, and emotional health
 . Learn how to:\n\n\n 	Break the Stigma: Overcome any hesitations about se
 eking professional help for your child.\n 	Empower Your Voice: Gain the co
 nfidence and tools to advocate for your child's needs.\n 	Actionable Steps
  to Wellness: Discover practical strategies to promote your child's overal
 l well-being.\n\nSomething for Everyone:\nWhile adults participate in insi
 ghtful panel discussions\, children will be engaged in fun and interactive
  workshops designed to foster their understanding of health and self-care.
 \nA Day of Connection &amp\; Support:\nFree lunch will be provided for all
  attendees\, fostering a sense of community and shared purpose.\nEvent Det
 ails:\n\n\n 	Date: [Insert Date]\n 	Time: 10:00 AM (program begins promptl
 y)\n 	Location: [Insert Location]\n 	Language: Spanish translation availab
 le\n 	Transportation: Carpooling and public transit encouraged\n 	Importan
 t Note: Children must be accompanied by an adult.\n\nPartners in Family We
 ll-being:\nThis event is proudly supported by:\n\n\n 	Santa Monica Police 
 Activities League\n 	Providence Saint John's Health Center\n 	Children's H
 ospital of Los Angeles\n 	Santa Monica Family YMCA\n 	Venice Family Clinic
 \n\nJoin the Movement:\nEmpower yourself and your family to prioritize wel
 l-being! Reserve your spot today for the Kiwanis Club's Youth &amp\; Famil
 y Health Expo.\nTogether\, we can create a thriving community that priorit
 izes the health and happiness of our children!\n\n\n\nBOOK SPOTS\n
ATTACH;FMTTYPE=image/jpeg:https://breathelosangeles.us/wp-content/uploads/
 2024/04/https___cdn.evbuc_.com_images_727558049_108293209989_1_original.jp
 eg
CATEGORIES:Wellness Events
LOCATION:Santa Monica Police Activities League\, 1401 Olympic Boulevard\, S
 anta Monica\, California\, 90404\, United States
X-APPLE-STRUCTURED-LOCATION;VALUE=URI;X-ADDRESS=1401 Olympic Boulevard\, Sa
 nta Monica\, California\, 90404\, United States;X-APPLE-RADIUS=100;X-TITLE
 =Santa Monica Police Activities League:geo:0,0
END:VEVENT
BEGIN:VTIMEZONE
TZID:America/Los_Angeles
X-LIC-LOCATION:America/Los_Angeles
BEGIN:DAYLIGHT
DTSTART:20240310T030000
TZOFFSETFROM:-0800
TZOFFSETTO:-0700
TZNAME:PDT
END:DAYLIGHT
END:VTIMEZONE
END:VCALENDAR